BEGIN:VCALENDAR
VERSION:2.0
PRODID:-//Mica Scotti Kole - ECPv5.2.0//NONSGML v1.0//EN
CALSCALE:GREGORIAN
METHOD:PUBLISH
X-WR-CALNAME:Mica Scotti Kole
X-ORIGINAL-URL:https://micascottikole.com
X-WR-CALDESC:Events for Mica Scotti Kole
BEGIN:VTIMEZONE
TZID:America/Detroit
BEGIN:DAYLIGHT
TZOFFSETFROM:-0500
TZOFFSETTO:-0400
TZNAME:EDT
DTSTART:20170312T070000
END:DAYLIGHT
BEGIN:STANDARD
TZOFFSETFROM:-0400
TZOFFSETTO:-0500
TZNAME:EST
DTSTART:20171105T060000
END:STANDARD
END:VTIMEZONE
BEGIN:VEVENT
DTSTART;TZID=America/Detroit:20170517T090000
DTEND;TZID=America/Detroit:20170519T230000
DTSTAMP:20260421T152729
CREATED:20170503T043739Z
LAST-MODIFIED:20170503T043739Z
UID:6843-1495011600-1495234800@micascottikole.com
SUMMARY:Spring WOW'em Pitchfest
DESCRIPTION:The Spring WOW’em Pitchfest is for completed manuscripts. Pitch your book in a three-line comment to one of the participating editors/agents. \nMore info here. Hosted by Savvy Authors. \nShare this:Click to share on Twitter (Opens in new window)Click to share on LinkedIn (Opens in new window)Click to share on Facebook (Opens in new window)Click to print (Opens in new window)Like this:Like Loading...
URL:https://micascottikole.com/events/spring-wowem-pitchfest/
ATTACH;FMTTYPE=image/png:https://micascottikole.com/wp-content/uploads/2017/04/BG_PitchParty.png
END:VEVENT
END:VCALENDAR