BEGIN:VCALENDAR
VERSION:2.0
PRODID:-//Mica Scotti Kole - ECPv5.2.0//NONSGML v1.0//EN
CALSCALE:GREGORIAN
METHOD:PUBLISH
X-WR-CALNAME:Mica Scotti Kole
X-ORIGINAL-URL:https://micascottikole.com
X-WR-CALDESC:Events for Mica Scotti Kole
BEGIN:VTIMEZONE
TZID:America/Detroit
BEGIN:DAYLIGHT
TZOFFSETFROM:-0500
TZOFFSETTO:-0400
TZNAME:EDT
DTSTART:20170312T070000
END:DAYLIGHT
BEGIN:STANDARD
TZOFFSETFROM:-0400
TZOFFSETTO:-0500
TZNAME:EST
DTSTART:20171105T060000
END:STANDARD
END:VTIMEZONE
BEGIN:VEVENT
DTSTART;VALUE=DATE:20170213
DTEND;VALUE=DATE:20170214
DTSTAMP:20260424T084540
CREATED:20170113T200707Z
LAST-MODIFIED:20170113T200707Z
UID:5885-1486944000-1487030399@micascottikole.com
SUMMARY:Son of a Pitch Query Workshop
DESCRIPTION:The Son of a Pitch Query Workshop is for adult\, new adult\, and young adult queries in all genres. \nSummary\nPost your query letter and first 250 words on the host blog\, and get feedback from the community. You must also give feedback on three other entries\, so that everyone gets workshopped! This event occurs February 13th\, 2017. It is meant to prepare participants for Son of a Pitch\, which occurs February 20th. Follow the conversation on Twitter using the hashtag #sonofapitch. \nLinks\nThe original information page for this Event can be found here. It is hosted by @HamsteadKatie. \nRules\n[list style=”style2″]\n[li]Contribute three critiques![/li]\n[li]See site for full guidelines.[/li]\n[/list] \nShare this:Click to share on Twitter (Opens in new window)Click to share on LinkedIn (Opens in new window)Click to share on Facebook (Opens in new window)Click to print (Opens in new window)Like this:Like Loading...
URL:https://micascottikole.com/events/son-of-a-pitch-workshop/
END:VEVENT
END:VCALENDAR