BEGIN:VCALENDAR
VERSION:2.0
PRODID:-//Mica Scotti Kole - ECPv5.2.0//NONSGML v1.0//EN
CALSCALE:GREGORIAN
METHOD:PUBLISH
X-WR-CALNAME:Mica Scotti Kole
X-ORIGINAL-URL:https://micascottikole.com
X-WR-CALDESC:Events for Mica Scotti Kole
BEGIN:VTIMEZONE
TZID:America/Detroit
BEGIN:DAYLIGHT
TZOFFSETFROM:-0500
TZOFFSETTO:-0400
TZNAME:EDT
DTSTART:20160313T070000
END:DAYLIGHT
BEGIN:STANDARD
TZOFFSETFROM:-0400
TZOFFSETTO:-0500
TZNAME:EST
DTSTART:20161106T060000
END:STANDARD
END:VTIMEZONE
BEGIN:VEVENT
DTSTART;VALUE=DATE:20161205
DTEND;VALUE=DATE:20161206
DTSTAMP:20260419T211432
CREATED:20161119T020244Z
LAST-MODIFIED:20161119T020244Z
UID:5552-1480896000-1480982399@micascottikole.com
SUMMARY:ENDING: Seeing Ear Creative Writing Competition (UK)
DESCRIPTION:The Seeing Ear Creative Writing Competition is for UK adult residents with disabilities that make it hard to read the printed word. Poetry or prose. \nSubmit poetry up to 40 lines or prose up to 500 words. Prizes include Dolphin software and 50£ prizes. This contest ends at midnight on December 5th\, 2016. \nThe original information page for this event can be found here. \nSeeing Ear Creative Writing Competition Rules\n[list style=”style2″]\n[li]Enter only ONCE.[/li]\n[li]Entries must be in English.[/li]\n[li]Entries must be your own work.[/li]\n[li]For UK residents 18 or older ONLY.[/li]\n[li]For blind/dyslexic/printed-word-disabled people ONLY.[/li]\n[li]Poems must be 40 lines or less.[/li]\n[li]Prose must be 500 words or less.[/li]\n[/list] \nShare this:Click to share on Twitter (Opens in new window)Click to share on LinkedIn (Opens in new window)Click to share on Facebook (Opens in new window)Click to print (Opens in new window)Like this:Like Loading...
URL:https://micascottikole.com/events/seeing-ear-creative-writing-competition/
END:VEVENT
END:VCALENDAR