BEGIN:VCALENDAR
VERSION:2.0
PRODID:-//Mica Scotti Kole - ECPv5.2.0//NONSGML v1.0//EN
CALSCALE:GREGORIAN
METHOD:PUBLISH
X-WR-CALNAME:Mica Scotti Kole
X-ORIGINAL-URL:https://micascottikole.com
X-WR-CALDESC:Events for Mica Scotti Kole
BEGIN:VTIMEZONE
TZID:America/Detroit
BEGIN:DAYLIGHT
TZOFFSETFROM:-0500
TZOFFSETTO:-0400
TZNAME:EDT
DTSTART:20170312T070000
END:DAYLIGHT
BEGIN:STANDARD
TZOFFSETFROM:-0400
TZOFFSETTO:-0500
TZNAME:EST
DTSTART:20171105T060000
END:STANDARD
END:VTIMEZONE
BEGIN:VEVENT
DTSTART;VALUE=DATE:20170515
DTEND;VALUE=DATE:20170516
DTSTAMP:20260422T142742
CREATED:20170227T234006Z
LAST-MODIFIED:20170417T182341Z
UID:6211-1494806400-1494892799@micascottikole.com
SUMMARY:ENDING: Raymond Carver Short Story Contest
DESCRIPTION:The Raymond Carver Short Story Contest is for short stories (most likely literary fiction). Word count is not listed on the host site as of this posting. Carve looks for “emotional jeopardy\, soul\, and honesty… Craft and control are tantamount to our connection to the characters.” Prizes are as follows: (1st – $1500) (2nd – $500) (3rd – $250) (Editor’s Choice x2 – $125). It is possible that you will be required to mail your entry in order to avoid a submission fee. The contest submission window opens April 1st and closes May 15th\, 2017. \nMore information here (will update later with more info\, if any). This event is sponsored by Carve Magazine. \nShare this:Click to share on Twitter (Opens in new window)Click to share on LinkedIn (Opens in new window)Click to share on Facebook (Opens in new window)Click to print (Opens in new window)Like this:Like Loading...
URL:https://micascottikole.com/events/raymond-carver-short-story-contest/
ATTACH;FMTTYPE=image/png:https://micascottikole.com/wp-content/uploads/2017/04/BG_ShortStory.png
END:VEVENT
END:VCALENDAR