BEGIN:VCALENDAR
VERSION:2.0
PRODID:-//Mica Scotti Kole - ECPv5.2.0//NONSGML v1.0//EN
CALSCALE:GREGORIAN
METHOD:PUBLISH
X-WR-CALNAME:Mica Scotti Kole
X-ORIGINAL-URL:https://micascottikole.com
X-WR-CALDESC:Events for Mica Scotti Kole
BEGIN:VTIMEZONE
TZID:America/Detroit
BEGIN:DAYLIGHT
TZOFFSETFROM:-0500
TZOFFSETTO:-0400
TZNAME:EDT
DTSTART:20170312T070000
END:DAYLIGHT
BEGIN:STANDARD
TZOFFSETFROM:-0400
TZOFFSETTO:-0500
TZNAME:EST
DTSTART:20171105T060000
END:STANDARD
END:VTIMEZONE
BEGIN:VEVENT
DTSTART;VALUE=DATE:20170506
DTEND;VALUE=DATE:20170507
DTSTAMP:20260422T220041
CREATED:20161211T191036Z
LAST-MODIFIED:20170417T182358Z
UID:5650-1494028800-1494115199@micascottikole.com
SUMMARY:Promo Day
DESCRIPTION:Promo Day is an online conference-style event where expert presenters “will share actionable ideas and information with tactics and strategies that will help you further your writing career and improve your book marketing efforts.” You can find more information and the for the event here\, and the presenter list here. You can also follow the conversation using the hashtag #PromoDay2017. Promo Day takes place on Saturday\, May 6th. \n\nShare this:Click to share on Twitter (Opens in new window)Click to share on LinkedIn (Opens in new window)Click to share on Facebook (Opens in new window)Click to print (Opens in new window)Like this:Like Loading...
URL:https://micascottikole.com/events/promo-day-2017/
ATTACH;FMTTYPE=image/png:https://micascottikole.com/wp-content/uploads/2017/04/BG_Conference.png
END:VEVENT
END:VCALENDAR