BEGIN:VCALENDAR
VERSION:2.0
PRODID:-//Mica Scotti Kole - ECPv5.2.0//NONSGML v1.0//EN
CALSCALE:GREGORIAN
METHOD:PUBLISH
X-WR-CALNAME:Mica Scotti Kole
X-ORIGINAL-URL:https://micascottikole.com
X-WR-CALDESC:Events for Mica Scotti Kole
BEGIN:VTIMEZONE
TZID:America/Detroit
BEGIN:DAYLIGHT
TZOFFSETFROM:-0500
TZOFFSETTO:-0400
TZNAME:EDT
DTSTART:20170312T070000
END:DAYLIGHT
BEGIN:STANDARD
TZOFFSETFROM:-0400
TZOFFSETTO:-0500
TZNAME:EST
DTSTART:20171105T060000
END:STANDARD
END:VTIMEZONE
BEGIN:VEVENT
DTSTART;VALUE=DATE:20170608
DTEND;VALUE=DATE:20170609
DTSTAMP:20260419T205217
CREATED:20161221T215522Z
LAST-MODIFIED:20170417T183343Z
UID:5769-1496880000-1496966399@micascottikole.com
SUMMARY:#PitMad Pitch Party
DESCRIPTION:#PitMad is a Periodic Twitter Pitch Event for complete and polished manuscripts. \nSummary\nPitch your book in 140 characters with the hashtag #PitMad and your genre/age hashtags. If you are Liked by an agent or editor\, consider it an official request for a query! Submit to the agent according to the guidelines listed on their Twitter profiles. You are limited to three pitches per project throughout the day. The pitching window is open from 8am-8pm EST/ 1pm-1am GMT. \nLinks\nTo see the original information page for this Event\, including full guidelines\, click here. This Event occurs four times per year\, give or take\, and it is hosted by @brendadrake. \nRules\n[list style=”style2″]\n[li]Do not Like other people’s pitches (RTs ok).[/li]\n[li]Participate only if you have a complete\, polished\, and unpublished manuscript.[/li]\n[li]Only three pitches per project all day.[/li]\n[li]Don’t Tweet agents directly unless they Tweet you first.[/li]\n[/list] \nImages\n \n \nImage courtesy of @Claribel_Ortega\nShare this:Click to share on Twitter (Opens in new window)Click to share on LinkedIn (Opens in new window)Click to share on Facebook (Opens in new window)Click to print (Opens in new window)Like this:Like Loading...
URL:https://micascottikole.com/events/pitmad-pitch-party-3/
ATTACH;FMTTYPE=image/png:https://micascottikole.com/wp-content/uploads/2017/04/BG_PitchParty.png
END:VEVENT
END:VCALENDAR