BEGIN:VCALENDAR
VERSION:2.0
PRODID:-//Mica Scotti Kole - ECPv5.2.0//NONSGML v1.0//EN
CALSCALE:GREGORIAN
METHOD:PUBLISH
X-WR-CALNAME:Mica Scotti Kole
X-ORIGINAL-URL:https://micascottikole.com
X-WR-CALDESC:Events for Mica Scotti Kole
BEGIN:VTIMEZONE
TZID:America/Detroit
BEGIN:DAYLIGHT
TZOFFSETFROM:-0500
TZOFFSETTO:-0400
TZNAME:EDT
DTSTART:20180311T070000
END:DAYLIGHT
BEGIN:STANDARD
TZOFFSETFROM:-0400
TZOFFSETTO:-0500
TZNAME:EST
DTSTART:20181104T060000
END:STANDARD
END:VTIMEZONE
BEGIN:VEVENT
DTSTART;VALUE=DATE:20180607
DTEND;VALUE=DATE:20180608
DTSTAMP:20260422T190037
CREATED:20171206T025624Z
LAST-MODIFIED:20180601T190941Z
UID:8093-1528329600-1528415999@micascottikole.com
SUMMARY:#PitMad
DESCRIPTION:#PitMad is a Twitter pitch party for completed manuscripts in all genres. Tweet your pitch in 280 characters including the hashtag and any relevant age category/ genre/ subgenre tags per host site. Likes from an agent are query requests! DO NOT Like other people’s pitches. Pitch only THREE DIFFERENT pitches per project throughout the day. Retweeting others’ pitches is fine. Event runs from 8am – 8pm EST / 1pm – 1am GMT / 5am – 5pm PST. \nMore info here. Hosted by Brenda Drake. \n  \nFind my events helpful?\n Donate $1 on Patreon to keep me ad-free! \nSee any errors? Have your own event?\nContact me! \nShare this:Click to share on Twitter (Opens in new window)Click to share on LinkedIn (Opens in new window)Click to share on Facebook (Opens in new window)Click to print (Opens in new window)Like this:Like Loading...
URL:https://micascottikole.com/events/pitmad-2/
ATTACH;FMTTYPE=image/png:https://micascottikole.com/wp-content/uploads/2017/04/BG_PitchParty.png
END:VEVENT
END:VCALENDAR