BEGIN:VCALENDAR
VERSION:2.0
PRODID:-//Mica Scotti Kole - ECPv5.2.0//NONSGML v1.0//EN
CALSCALE:GREGORIAN
METHOD:PUBLISH
X-WR-CALNAME:Mica Scotti Kole
X-ORIGINAL-URL:https://micascottikole.com
X-WR-CALDESC:Events for Mica Scotti Kole
BEGIN:VTIMEZONE
TZID:America/Detroit
BEGIN:DAYLIGHT
TZOFFSETFROM:-0500
TZOFFSETTO:-0400
TZNAME:EDT
DTSTART:20170312T070000
END:DAYLIGHT
BEGIN:STANDARD
TZOFFSETFROM:-0400
TZOFFSETTO:-0500
TZNAME:EST
DTSTART:20171105T060000
END:STANDARD
END:VTIMEZONE
BEGIN:VEVENT
DTSTART;VALUE=DATE:20170518
DTEND;VALUE=DATE:20170519
DTSTAMP:20260419T134811
CREATED:20170426T154943Z
LAST-MODIFIED:20170426T162433Z
UID:6740-1495065600-1495151999@micascottikole.com
SUMMARY:#PitDark
DESCRIPTION:#PitDark is a Twitter pitch party for any completed manuscripts with dark themes in any genre or age category. Pitch to agents using the hashtag #PitDark and any genre/age hashtags (see site) during the time frame. Likes by agents are query requests! \nTime frame is 8am-8pm EST/ 1pm-1am GMT on May 18th\, 2017. Please only pitch once per hour per project. \nMore info here. Hosted by @JasonHuebinger. \nNote: Do not Like other people’s pitches on pitch parties. It gives them mini heart attacks because they think you’re an agent. But feel free to RT them to show your support! \nShare this:Click to share on Twitter (Opens in new window)Click to share on LinkedIn (Opens in new window)Click to share on Facebook (Opens in new window)Click to print (Opens in new window)Like this:Like Loading...
URL:https://micascottikole.com/events/pitdark/
ATTACH;FMTTYPE=image/png:https://micascottikole.com/wp-content/uploads/2017/04/BG_PitchParty.png
END:VEVENT
END:VCALENDAR