BEGIN:VCALENDAR
VERSION:2.0
PRODID:-//Mica Scotti Kole - ECPv5.2.0//NONSGML v1.0//EN
CALSCALE:GREGORIAN
METHOD:PUBLISH
X-WR-CALNAME:Mica Scotti Kole
X-ORIGINAL-URL:https://micascottikole.com
X-WR-CALDESC:Events for Mica Scotti Kole
BEGIN:VTIMEZONE
TZID:UTC
BEGIN:STANDARD
TZOFFSETFROM:+0000
TZOFFSETTO:+0000
TZNAME:UTC
DTSTART:20160101T000000
END:STANDARD
END:VTIMEZONE
BEGIN:VEVENT
DTSTART;VALUE=DATE:20161028
DTEND;VALUE=DATE:20161029
DTSTAMP:20260419T233140
CREATED:20160725T232124Z
LAST-MODIFIED:20161025T134226Z
UID:4933-1477612800-1477699199@micascottikole.com
SUMMARY:#PitchCB Pitch Party
DESCRIPTION:#PitchCB is a Periodic Twitter Pitch Event. \nPitch your book in 140 characters once during the Event. Tag the Tweet with #PitchCB (modifying tags not necessary). If you get any Likes from agents\, submit to them directly following their personal guidelines. Be sure to include “PitchCB Request” in the subject line of your query! \nThis Event occurs on the fourth Friday of every month. The Event is sponsored by the @CurtisBrown and @conville_walsh literary agencies (visit their sites if you can’t find a particular agent’s submission guidelines). The original informational page for this Event can be found here. \n#PitchCB Rules\n[list style=”style2″]\n[li]Do not Like or Retweet other people’s pitches.[/li]\n[li]Participate only if you have a complete\, polished\, and unpublished manuscript.[/li]\n[li]Only one pitch per project all day.[/li]\n[li]Don’t Tweet agents directly unless they Tweet you first.[/li]\n[/list] \nShare this:Click to share on Twitter (Opens in new window)Click to share on LinkedIn (Opens in new window)Click to share on Facebook (Opens in new window)Click to print (Opens in new window)Like this:Like Loading...
URL:https://micascottikole.com/events/pitchcb-pitch-party-2/
END:VEVENT
END:VCALENDAR