BEGIN:VCALENDAR
VERSION:2.0
PRODID:-//Mica Scotti Kole - ECPv5.2.0//NONSGML v1.0//EN
CALSCALE:GREGORIAN
METHOD:PUBLISH
X-WR-CALNAME:Mica Scotti Kole
X-ORIGINAL-URL:https://micascottikole.com
X-WR-CALDESC:Events for Mica Scotti Kole
BEGIN:VTIMEZONE
TZID:UTC
BEGIN:STANDARD
TZOFFSETFROM:+0000
TZOFFSETTO:+0000
TZNAME:UTC
DTSTART:20160101T000000
END:STANDARD
END:VTIMEZONE
BEGIN:VEVENT
DTSTART;VALUE=DATE:20160803
DTEND;VALUE=DATE:20160804
DTSTAMP:20260425T065604
CREATED:20160725T233733Z
LAST-MODIFIED:20170730T003506Z
UID:4935-1470182400-1470268799@micascottikole.com
SUMMARY:Pitch Wars
DESCRIPTION:Pitch Wars is a Periodic Blog Pitch Contest Event. \nThis pitch contest is aimed at finding one of the greatest tools an unpublished author can have: a mentor. According to application guidelines on Brenda Drake’s blog\, send your query and first chapter to the four participating mentors of your choice\, and each mentor will select their favorite entry to work with. Next\, the writer and mentor work to shine up the manuscript and pitch for two months\, after which the agent round begins! \nYou can join the Twitter conversation for this Event on hashtag #PitchWars. The original informational page for this Event can be found here. \nPitch Wars Dates\n8/3. Submission window.\n8/25. Mentees are announced.\n11/3-5. Agent round. \nShare this:Click to share on Twitter (Opens in new window)Click to share on LinkedIn (Opens in new window)Click to share on Facebook (Opens in new window)Click to print (Opens in new window)Like this:Like Loading...
URL:https://micascottikole.com/events/pitch-wars/
END:VEVENT
END:VCALENDAR