BEGIN:VCALENDAR
VERSION:2.0
PRODID:-//Mica Scotti Kole - ECPv5.2.0//NONSGML v1.0//EN
CALSCALE:GREGORIAN
METHOD:PUBLISH
X-WR-CALNAME:Mica Scotti Kole
X-ORIGINAL-URL:https://micascottikole.com
X-WR-CALDESC:Events for Mica Scotti Kole
BEGIN:VTIMEZONE
TZID:UTC
BEGIN:STANDARD
TZOFFSETFROM:+0000
TZOFFSETTO:+0000
TZNAME:UTC
DTSTART:20160101T000000
END:STANDARD
END:VTIMEZONE
BEGIN:VEVENT
DTSTART;VALUE=DATE:20160825
DTEND;VALUE=DATE:20160826
DTSTAMP:20260423T004140
CREATED:20160726T033133Z
LAST-MODIFIED:20160726T033213Z
UID:4975-1472083200-1472169599@micascottikole.com
SUMMARY:Pitch Wars Winner Announcement
DESCRIPTION:This is a Periodic Blog Event. It announces the Pitch Wars winners. \nThis Pitch Wars mentors have chosen their mentees! See Brenda Drake’s blog to find out which awesome writers made it. The agent round happens in early November\, and they’ve all got to get prepped by then! \nYou can join the Twitter conversation for this Event on hashtag #PitchWars. The original informational page for this Event can be found here. \nShare this:Click to share on Twitter (Opens in new window)Click to share on LinkedIn (Opens in new window)Click to share on Facebook (Opens in new window)Click to print (Opens in new window)Like this:Like Loading...
URL:https://micascottikole.com/events/pitch-wars-winner-announcement/
END:VEVENT
END:VCALENDAR