BEGIN:VCALENDAR
VERSION:2.0
PRODID:-//Mica Scotti Kole - ECPv5.2.0//NONSGML v1.0//EN
CALSCALE:GREGORIAN
METHOD:PUBLISH
X-WR-CALNAME:Mica Scotti Kole
X-ORIGINAL-URL:https://micascottikole.com
X-WR-CALDESC:Events for Mica Scotti Kole
BEGIN:VTIMEZONE
TZID:America/Detroit
BEGIN:DAYLIGHT
TZOFFSETFROM:-0500
TZOFFSETTO:-0400
TZNAME:EDT
DTSTART:20160313T070000
END:DAYLIGHT
BEGIN:STANDARD
TZOFFSETFROM:-0400
TZOFFSETTO:-0500
TZNAME:EST
DTSTART:20161106T060000
END:STANDARD
END:VTIMEZONE
BEGIN:VEVENT
DTSTART;VALUE=DATE:20161022
DTEND;VALUE=DATE:20161023
DTSTAMP:20260420T033337
CREATED:20161016T235432Z
LAST-MODIFIED:20161017T001613Z
UID:5354-1477094400-1477180799@micascottikole.com
SUMMARY:Pitch to Publication
DESCRIPTION:Pitch to Publication is a Periodic Blog Pitch Contest where you “query” editors. \nGet started with the added benefit of a professionally edited manuscript – free! Participants query editors directly\, selecting three from a list of participating freelance editors. The editors choose their favorites to work with for five weeks\, after which the improved manuscript is taken through an agent round. \nSubmit a query and the first five pages of your manuscript via online submission form on the Pitch to Publication blog.  Choose your three editors from the editor list BEFORE the submission date of October 22nd\, 2016 (the window is open from noon EST to noon the following day). Enter early – each editor caps out at 100 entries. \nVisit the original informational page here to get all the details. Feel free to Follow the event host @FountainWriter on Twitter or join the Twitter conversation with hashtag #p2p16. \nPitch to Publication Rules\n[list style=”style2″]\n[li]Your manuscript must be fully complete.[/li]\n[li]Send only one query per project.[/li]\n[/list] \n\nShare this:Click to share on Twitter (Opens in new window)Click to share on LinkedIn (Opens in new window)Click to share on Facebook (Opens in new window)Click to print (Opens in new window)Like this:Like Loading...
URL:https://micascottikole.com/events/pitch-to-publication16/
END:VEVENT
END:VCALENDAR