BEGIN:VCALENDAR
VERSION:2.0
PRODID:-//Mica Scotti Kole - ECPv5.2.0//NONSGML v1.0//EN
CALSCALE:GREGORIAN
METHOD:PUBLISH
X-WR-CALNAME:Mica Scotti Kole
X-ORIGINAL-URL:https://micascottikole.com
X-WR-CALDESC:Events for Mica Scotti Kole
BEGIN:VTIMEZONE
TZID:America/Detroit
BEGIN:DAYLIGHT
TZOFFSETFROM:-0500
TZOFFSETTO:-0400
TZNAME:EDT
DTSTART:20170312T070000
END:DAYLIGHT
BEGIN:STANDARD
TZOFFSETFROM:-0400
TZOFFSETTO:-0500
TZNAME:EST
DTSTART:20171105T060000
END:STANDARD
END:VTIMEZONE
BEGIN:VEVENT
DTSTART;VALUE=DATE:20170607
DTEND;VALUE=DATE:20170608
DTSTAMP:20260419T222947
CREATED:20170426T160157Z
LAST-MODIFIED:20170527T051356Z
UID:6742-1496793600-1496879999@micascottikole.com
SUMMARY:#pg70pit / #70pit17
DESCRIPTION:#pg70pit is a unique pitch contest where authors submit the 70th page of their completed manuscript for a chance at representation. Age categories include MG\, YA\, NA\, and Adult. Any genre except erotica is accepted. This year’s hashtag is #70pit17. \nSubmit your book’s 70th page (or 69th page) to enter the contest. Seventy winners will be chosen in each age category by lottery. These winners go on to the judging round\, where judges select the 7 best in each category based on aggregate scores from all judges. These 7 will then move on to the agent round! \nTo increase your odds\, you can also join a week-long Twitter “pitch party” where the seven most-retweeted pitches in each category also move on to the next round with the lottery winners. \nMore information here. Hosted by @LaraEdits. \nShare this:Click to share on Twitter (Opens in new window)Click to share on LinkedIn (Opens in new window)Click to share on Facebook (Opens in new window)Click to print (Opens in new window)Like this:Like Loading...
URL:https://micascottikole.com/events/pg70pit-70pit17/
ATTACH;FMTTYPE=image/png:https://micascottikole.com/wp-content/uploads/2017/04/BG_Novel.png
END:VEVENT
END:VCALENDAR