BEGIN:VCALENDAR
VERSION:2.0
PRODID:-//Mica Scotti Kole - ECPv5.2.0//NONSGML v1.0//EN
CALSCALE:GREGORIAN
METHOD:PUBLISH
X-WR-CALNAME:Mica Scotti Kole
X-ORIGINAL-URL:https://micascottikole.com
X-WR-CALDESC:Events for Mica Scotti Kole
BEGIN:VTIMEZONE
TZID:America/Detroit
BEGIN:DAYLIGHT
TZOFFSETFROM:-0500
TZOFFSETTO:-0400
TZNAME:EDT
DTSTART:20170312T070000
END:DAYLIGHT
BEGIN:STANDARD
TZOFFSETFROM:-0400
TZOFFSETTO:-0500
TZNAME:EST
DTSTART:20171105T060000
END:STANDARD
END:VTIMEZONE
BEGIN:VEVENT
DTSTART;VALUE=DATE:20171006
DTEND;VALUE=DATE:20171007
DTSTAMP:20260418T044638
CREATED:20170907T070612Z
LAST-MODIFIED:20170907T155011Z
UID:7612-1507248000-1507334399@micascottikole.com
SUMMARY:ENDING: PersonalLordSaviorJesusChrist Poetry Contest
DESCRIPTION:The PersonalLordSaviorJesusChrist Poetry Contest is for poems relating to the theme “PersonalLordSaviorJesusChrist” that do not exceed 10 pages long. Prizes are $300\, $200\, $100 respectively. \nMore info here (info in the image; I could not find a specific info page). Hosted by Chris Rice Cooper. \nFind my events helpful?\nDonate $1 on Patreon to keep me ad-free! \nShare this:Click to share on Twitter (Opens in new window)Click to share on LinkedIn (Opens in new window)Click to share on Facebook (Opens in new window)Click to print (Opens in new window)Like this:Like Loading...
URL:https://micascottikole.com/events/personallordsaviorjesuschrist-poetry-contest/
ATTACH;FMTTYPE=image/png:https://micascottikole.com/wp-content/uploads/2017/04/BG_poetry.png
END:VEVENT
END:VCALENDAR