BEGIN:VCALENDAR
VERSION:2.0
PRODID:-//Mica Scotti Kole - ECPv5.2.0//NONSGML v1.0//EN
CALSCALE:GREGORIAN
METHOD:PUBLISH
X-WR-CALNAME:Mica Scotti Kole
X-ORIGINAL-URL:https://micascottikole.com
X-WR-CALDESC:Events for Mica Scotti Kole
BEGIN:VTIMEZONE
TZID:America/Detroit
BEGIN:DAYLIGHT
TZOFFSETFROM:-0500
TZOFFSETTO:-0400
TZNAME:EDT
DTSTART:20170312T070000
END:DAYLIGHT
BEGIN:STANDARD
TZOFFSETFROM:-0400
TZOFFSETTO:-0500
TZNAME:EST
DTSTART:20171105T060000
END:STANDARD
END:VTIMEZONE
BEGIN:VEVENT
DTSTART;VALUE=DATE:20170623
DTEND;VALUE=DATE:20170624
DTSTAMP:20260419T162249
CREATED:20170525T054953Z
LAST-MODIFIED:20170525T055027Z
UID:6922-1498176000-1498262399@micascottikole.com
SUMMARY:#PeerPitch #1st50 Competition
DESCRIPTION:The #PeerPitch #1st50 Competition is a contest for YA\, MG\, and Children’s manuscripts that are completed and polished. It is the follows the #PeerPitch #1st50 Workshop\, which occurs the previous week.  Email the first 50 words of your manuscript for free feedback from professionals\, as well as a chance to earn two first page critiques and an online publicity boost. \nMore info here. Hosted by The Scribblers. \n— \nFind my events helpful?\nHere are ways you can support me: \n♠ Sign up for my once-a-month newsletter! \n♠ Comment on my blog! \n♠ Donate $1 on Patreon! \nShare this:Click to share on Twitter (Opens in new window)Click to share on LinkedIn (Opens in new window)Click to share on Facebook (Opens in new window)Click to print (Opens in new window)Like this:Like Loading...
URL:https://micascottikole.com/events/peerpitch-1st50-competition/
ATTACH;FMTTYPE=image/png:https://micascottikole.com/wp-content/uploads/2017/04/BG_Critique.png
END:VEVENT
END:VCALENDAR