BEGIN:VCALENDAR
VERSION:2.0
PRODID:-//Mica Scotti Kole - ECPv5.2.0//NONSGML v1.0//EN
CALSCALE:GREGORIAN
METHOD:PUBLISH
X-WR-CALNAME:Mica Scotti Kole
X-ORIGINAL-URL:https://micascottikole.com
X-WR-CALDESC:Events for Mica Scotti Kole
BEGIN:VTIMEZONE
TZID:America/Detroit
BEGIN:DAYLIGHT
TZOFFSETFROM:-0500
TZOFFSETTO:-0400
TZNAME:EDT
DTSTART:20180311T070000
END:DAYLIGHT
BEGIN:STANDARD
TZOFFSETFROM:-0400
TZOFFSETTO:-0500
TZNAME:EST
DTSTART:20181104T060000
END:STANDARD
END:VTIMEZONE
BEGIN:VEVENT
DTSTART;VALUE=DATE:20180621
DTEND;VALUE=DATE:20180622
DTSTAMP:20260422T000342
CREATED:20180530T181409Z
LAST-MODIFIED:20180530T181409Z
UID:9056-1529539200-1529625599@micascottikole.com
SUMMARY:#PBPitch Pitch Party
DESCRIPTION:#PBPitch is a Twitter pitch party for picture books. Pitch your completed manuscript in a single Tweet on the hashtag. Likes from an agent are query requests. Event runs from 8am – 8pm EST / 1pm – 1am GMT / 5am – 5pm PST. Pitch only ONCE before 2pm and ONCE after 2pm (per project). DO NOT Like other people’s pitches. \nMore info here. Hosted by @PJMcIlvaine and others. \n  \nFree Writing Events offers budget editing services from $5-10!\nYou can also support FWE on Patreon to keep it ad-free. \nSee any errors? Have I missed an event?\nContact me! \nShare this:Click to share on Twitter (Opens in new window)Click to share on LinkedIn (Opens in new window)Click to share on Facebook (Opens in new window)Click to print (Opens in new window)Like this:Like Loading...
URL:https://micascottikole.com/events/pbpitch-pitch-party/
ATTACH;FMTTYPE=image/png:https://micascottikole.com/wp-content/uploads/2017/04/BG_PitchParty.png
END:VEVENT
END:VCALENDAR