BEGIN:VCALENDAR
VERSION:2.0
PRODID:-//Mica Scotti Kole - ECPv5.2.0//NONSGML v1.0//EN
CALSCALE:GREGORIAN
METHOD:PUBLISH
X-WR-CALNAME:Mica Scotti Kole
X-ORIGINAL-URL:https://micascottikole.com
X-WR-CALDESC:Events for Mica Scotti Kole
BEGIN:VTIMEZONE
TZID:America/Detroit
BEGIN:DAYLIGHT
TZOFFSETFROM:-0500
TZOFFSETTO:-0400
TZNAME:EDT
DTSTART:20170312T070000
END:DAYLIGHT
BEGIN:STANDARD
TZOFFSETFROM:-0400
TZOFFSETTO:-0500
TZNAME:EST
DTSTART:20171105T060000
END:STANDARD
END:VTIMEZONE
BEGIN:VEVENT
DTSTART;VALUE=DATE:20171024
DTEND;VALUE=DATE:20171025
DTSTAMP:20260423T135434
CREATED:20170626T204715Z
LAST-MODIFIED:20170907T172203Z
UID:7291-1508803200-1508889599@micascottikole.com
SUMMARY:#OVPit CANCELLED
DESCRIPTION:This event has been cancelled. \nThe #OVPit Pitch Party is for #ownvoices novels (novels about or surrounding the underrepresented/marginalized\, written by authors who are similarly underrepresented/marginalized). Pitch your work in 140 characters using the #OVPit hashtag\, and any Likes by editors or agents are query requests! Pitch up to five times throughout the day per manuscript. The event will run from 8am-8pm EST / 1pm-1am GMT. \nMore info here. Hosted by @BookishFangrl. \nPlease do not Like other people’s pitches\, as it makes them think you are an agent. Instead\, RT to show support. \n— \nFind my events helpful?\nHere are ways you can support me: \n♠ Sign up for my once-a-month newsletter! \n♠ Comment on/re-post my blog! \n♠ Donate $1 on Patreon! \nShare this:Click to share on Twitter (Opens in new window)Click to share on LinkedIn (Opens in new window)Click to share on Facebook (Opens in new window)Click to print (Opens in new window)Like this:Like Loading...
URL:https://micascottikole.com/events/ovpit-pitch-party-diverse/
ATTACH;FMTTYPE=image/png:https://micascottikole.com/wp-content/uploads/2017/04/BG_PitchParty.png
END:VEVENT
END:VCALENDAR