BEGIN:VCALENDAR
VERSION:2.0
PRODID:-//Mica Scotti Kole - ECPv5.2.0//NONSGML v1.0//EN
CALSCALE:GREGORIAN
METHOD:PUBLISH
X-WR-CALNAME:Mica Scotti Kole
X-ORIGINAL-URL:https://micascottikole.com
X-WR-CALDESC:Events for Mica Scotti Kole
BEGIN:VTIMEZONE
TZID:America/Detroit
BEGIN:DAYLIGHT
TZOFFSETFROM:-0500
TZOFFSETTO:-0400
TZNAME:EDT
DTSTART:20170312T070000
END:DAYLIGHT
BEGIN:STANDARD
TZOFFSETFROM:-0400
TZOFFSETTO:-0500
TZNAME:EST
DTSTART:20171105T060000
END:STANDARD
END:VTIMEZONE
BEGIN:VEVENT
DTSTART;VALUE=DATE:20170625
DTEND;VALUE=DATE:20170626
DTSTAMP:20260419T210419
CREATED:20170303T182801Z
LAST-MODIFIED:20170417T183258Z
UID:6375-1498348800-1498435199@micascottikole.com
SUMMARY:OPEN: EFG Short Story Award (Pubbed)
DESCRIPTION:The EFG Short Story Award is for short stories up to 6000 words by authors whose work has been published in Ireland or the UK. The grand prize is £30\,000 with five shortlisted authors winning £1\,000 each. This date is for the submission window OPENING. See the link below for the close date. \nMore information here. This event is hosted by The Society of Authors. \nShare this:Click to share on Twitter (Opens in new window)Click to share on LinkedIn (Opens in new window)Click to share on Facebook (Opens in new window)Click to print (Opens in new window)Like this:Like Loading...
URL:https://micascottikole.com/events/open-efg-short-story-award-pubbed/
ATTACH;FMTTYPE=image/png:https://micascottikole.com/wp-content/uploads/2017/04/BG_Published.png
END:VEVENT
END:VCALENDAR