BEGIN:VCALENDAR
VERSION:2.0
PRODID:-//Mica Scotti Kole - ECPv5.2.0//NONSGML v1.0//EN
CALSCALE:GREGORIAN
METHOD:PUBLISH
X-WR-CALNAME:Mica Scotti Kole
X-ORIGINAL-URL:https://micascottikole.com
X-WR-CALDESC:Events for Mica Scotti Kole
BEGIN:VTIMEZONE
TZID:UTC
BEGIN:STANDARD
TZOFFSETFROM:+0000
TZOFFSETTO:+0000
TZNAME:UTC
DTSTART:20160101T000000
END:STANDARD
END:VTIMEZONE
BEGIN:VEVENT
DTSTART;VALUE=DATE:20161021
DTEND;VALUE=DATE:20161024
DTSTAMP:20260420T132928
CREATED:20160728T043739Z
LAST-MODIFIED:20161025T005027Z
UID:4998-1477008000-1477267199@micascottikole.com
SUMMARY:#OAFlash Contest
DESCRIPTION:#OAFlash is a Periodic Blog Contest Event. Dates are tentative and subject to change.  \nA flash fiction contest without a Twitter character limit. Biweekly – give or take – the Operation Awesome blog will post a <1000 word count and writing prompt. Submit your flash fiction within those guidelines directly into the comments section for the given contest\, including your name and Twitter handle. Winners are chosen only a few days later. \nThe best way to get the dates of this contest is to subscribe to the Operation Awesome blog\, as they only post prompts a day or two before submission closes. Generally these occur on the 2nd and 4th Fridays of each month.  \nSee the prompt on the hashtag #OAFlash or the host @OPAwesome6. If there is no prompt\, that week’s contest may have been cancelled. The original informational page for this Event can be found here. \n#OAFlash Rules\n[list style=”style2″]\n[li]Keep it PG-13. No erotica\, graphic violence\, etc.[/li]\n[li]Microsoft Office Word is used to count words. Going over the limit disqualifies you.[/li]\n[li]It must be obvious that your story is associated with the prompt.[/li]\n[li]Past winners can participate\, but they can’t win again for three months.[/li]\n[/list] \nShare this:Click to share on Twitter (Opens in new window)Click to share on LinkedIn (Opens in new window)Click to share on Facebook (Opens in new window)Click to print (Opens in new window)Like this:Like Loading...
URL:https://micascottikole.com/events/oaflash-contest-6/
END:VEVENT
END:VCALENDAR