BEGIN:VCALENDAR
VERSION:2.0
PRODID:-//Mica Scotti Kole - ECPv5.2.0//NONSGML v1.0//EN
CALSCALE:GREGORIAN
METHOD:PUBLISH
X-WR-CALNAME:Mica Scotti Kole
X-ORIGINAL-URL:https://micascottikole.com
X-WR-CALDESC:Events for Mica Scotti Kole
BEGIN:VTIMEZONE
TZID:America/Detroit
BEGIN:DAYLIGHT
TZOFFSETFROM:-0500
TZOFFSETTO:-0400
TZNAME:EDT
DTSTART:20160313T070000
END:DAYLIGHT
BEGIN:STANDARD
TZOFFSETFROM:-0400
TZOFFSETTO:-0500
TZNAME:EST
DTSTART:20161106T060000
END:STANDARD
END:VTIMEZONE
BEGIN:VEVENT
DTSTART;VALUE=DATE:20161231
DTEND;VALUE=DATE:20170101
DTSTAMP:20260420T000402
CREATED:20161211T231319Z
LAST-MODIFIED:20161213T120710Z
UID:5663-1483142400-1483228799@micascottikole.com
SUMMARY:ENDING: New Year's Flash Fiction Contest
DESCRIPTION:The New Year’s Flash Fiction Contest is for flash fiction up to 404 words in any genre. \nSummary\nSubmit your short stories of up to 404 words via online submission form. The winning entry will receive $50 and be published on the host website. The deadline for submission is December 31st\, 2016. \nLinks\nThe original information page for this Event\, including full guidelines\, can be found here. It is hosted by 404 Words. \nRules\n[list style=”style2″]\n[li]Entries must be no more than 404 words.[/li]\n[li]Entrants must be 18 or older.[/li]\n[li]Entries must be in English.[/li]\n[li]Submit according to site guidelines.[/li]\n[/list] \nShare this:Click to share on Twitter (Opens in new window)Click to share on LinkedIn (Opens in new window)Click to share on Facebook (Opens in new window)Click to print (Opens in new window)Like this:Like Loading...
URL:https://micascottikole.com/events/new-years-flash-contest/
END:VEVENT
END:VCALENDAR