BEGIN:VCALENDAR
VERSION:2.0
PRODID:-//Mica Scotti Kole - ECPv5.2.0//NONSGML v1.0//EN
CALSCALE:GREGORIAN
METHOD:PUBLISH
X-WR-CALNAME:Mica Scotti Kole
X-ORIGINAL-URL:https://micascottikole.com
X-WR-CALDESC:Events for Mica Scotti Kole
BEGIN:VTIMEZONE
TZID:UTC
BEGIN:STANDARD
TZOFFSETFROM:+0000
TZOFFSETTO:+0000
TZNAME:UTC
DTSTART:20160101T000000
END:STANDARD
END:VTIMEZONE
BEGIN:VEVENT
DTSTART;VALUE=DATE:20161031
DTEND;VALUE=DATE:20161101
DTSTAMP:20260419T202005
CREATED:20160726T041235Z
LAST-MODIFIED:20161025T005153Z
UID:4979-1477872000-1477958399@micascottikole.com
SUMMARY:NaNoWriMo Starts Tomorrow
DESCRIPTION:National Novel Writing Month (or NaNoWriMo) is a Periodic Web Event aimed at helping authors write a book in one month. \nJoin an online community and track your progress toward writing a full 50\,000-word book in one month! Sign up at the website and get pep talks\, support\, new friends\, and word count tracking. This is a yearly phenomenon and not to be missed! For full information\, see this link. \nShare this:Click to share on Twitter (Opens in new window)Click to share on LinkedIn (Opens in new window)Click to share on Facebook (Opens in new window)Click to print (Opens in new window)Like this:Like Loading...
URL:https://micascottikole.com/events/national-novel-writing-month/
END:VEVENT
END:VCALENDAR