BEGIN:VCALENDAR
VERSION:2.0
PRODID:-//Mica Scotti Kole - ECPv5.2.0//NONSGML v1.0//EN
CALSCALE:GREGORIAN
METHOD:PUBLISH
X-WR-CALNAME:Mica Scotti Kole
X-ORIGINAL-URL:https://micascottikole.com
X-WR-CALDESC:Events for Mica Scotti Kole
BEGIN:VTIMEZONE
TZID:America/Detroit
BEGIN:DAYLIGHT
TZOFFSETFROM:-0500
TZOFFSETTO:-0400
TZNAME:EDT
DTSTART:20170312T070000
END:DAYLIGHT
BEGIN:STANDARD
TZOFFSETFROM:-0400
TZOFFSETTO:-0500
TZNAME:EST
DTSTART:20171105T060000
END:STANDARD
END:VTIMEZONE
BEGIN:VEVENT
DTSTART;VALUE=DATE:20170531
DTEND;VALUE=DATE:20170601
DTSTAMP:20260420T230911
CREATED:20170111T211828Z
LAST-MODIFIED:20170417T181554Z
UID:5845-1496188800-1496275199@micascottikole.com
SUMMARY:ENDING: Magical Realism Book Proposal Contest
DESCRIPTION:The “Surreally Yours” Magical Realism Book Proposal Contest is for magical realism book proposals. \nSummary\nSubmit book proposals up to 1000 words via submission form. Proposed books must be in the magical realism genre (magic and everyday life in coexistence\, etc.). The proposal which sells the most pre-orders on the website wins a grand prize of $2000 and a possible publishing deal. The entry window is May 1st to 31st\, 2017\, but it is best to enter early. \nLinks\nThe original information page and submission form for this Event can be found here. This event is hosted by Publishizer. \nRules\n[list style=”style2″]\n[li]Proposals must be in English and can’t exceed 1000 words.[/li]\n[li]One entry per person.[/li]\n[li]See site for full guidelines.[/li]\n[/list] \nShare this:Click to share on Twitter (Opens in new window)Click to share on LinkedIn (Opens in new window)Click to share on Facebook (Opens in new window)Click to print (Opens in new window)Like this:Like Loading...
URL:https://micascottikole.com/events/magical-realism-book-proposal-contest/
ATTACH;FMTTYPE=image/png:https://micascottikole.com/wp-content/uploads/2017/04/BG_Novel.png
END:VEVENT
END:VCALENDAR