BEGIN:VCALENDAR
VERSION:2.0
PRODID:-//Mica Scotti Kole - ECPv5.2.0//NONSGML v1.0//EN
CALSCALE:GREGORIAN
METHOD:PUBLISH
X-WR-CALNAME:Mica Scotti Kole
X-ORIGINAL-URL:https://micascottikole.com
X-WR-CALDESC:Events for Mica Scotti Kole
BEGIN:VTIMEZONE
TZID:America/Detroit
BEGIN:DAYLIGHT
TZOFFSETFROM:-0500
TZOFFSETTO:-0400
TZNAME:EDT
DTSTART:20170312T070000
END:DAYLIGHT
BEGIN:STANDARD
TZOFFSETFROM:-0400
TZOFFSETTO:-0500
TZNAME:EST
DTSTART:20171105T060000
END:STANDARD
END:VTIMEZONE
BEGIN:VEVENT
DTSTART;VALUE=DATE:20170727
DTEND;VALUE=DATE:20170728
DTSTAMP:20260423T194610
CREATED:20170625T213456Z
LAST-MODIFIED:20170625T213456Z
UID:7223-1501113600-1501199999@micascottikole.com
SUMMARY:#IWSGPit Pitch Party
DESCRIPTION:The #IWSGPit Pitch Party is a Twitter pitch party for all authors. Pitch your book in 140 characters and include the #IWSGPit tag and any other age/genre tags. If an agent or editor favorites your post\, it’s a request for a query! You can pitch up to once per hour per project. Event runs 8am-8pm EST / 1pm – 1am GMT. \nMore info here. Hosted by @AlexJCavanaugh. \nPlease do not Like other people’s pitches. It is disappointing for them to find out you are not an agent! RT to show support instead. \nShare this:Click to share on Twitter (Opens in new window)Click to share on LinkedIn (Opens in new window)Click to share on Facebook (Opens in new window)Click to print (Opens in new window)Like this:Like Loading...
URL:https://micascottikole.com/events/iwsgpit-pitch-party/
ATTACH;FMTTYPE=image/png:https://micascottikole.com/wp-content/uploads/2017/04/BG_PitchParty.png
END:VEVENT
END:VCALENDAR