BEGIN:VCALENDAR
VERSION:2.0
PRODID:-//Mica Scotti Kole - ECPv5.2.0//NONSGML v1.0//EN
CALSCALE:GREGORIAN
METHOD:PUBLISH
X-WR-CALNAME:Mica Scotti Kole
X-ORIGINAL-URL:https://micascottikole.com
X-WR-CALDESC:Events for Mica Scotti Kole
BEGIN:VTIMEZONE
TZID:America/Detroit
BEGIN:DAYLIGHT
TZOFFSETFROM:-0500
TZOFFSETTO:-0400
TZNAME:EDT
DTSTART:20160313T070000
END:DAYLIGHT
BEGIN:STANDARD
TZOFFSETFROM:-0400
TZOFFSETTO:-0500
TZNAME:EST
DTSTART:20161106T060000
END:STANDARD
END:VTIMEZONE
BEGIN:VEVENT
DTSTART;VALUE=DATE:20161231
DTEND;VALUE=DATE:20170101
DTSTAMP:20260422T075313
CREATED:20161211T223704Z
LAST-MODIFIED:20161211T223704Z
UID:5654-1483142400-1483228799@micascottikole.com
SUMMARY:ENDING: International Student/Teacher Essay Contest
DESCRIPTION:The International Student/Teacher Essay Contest is for essays by teachers and students (high school and above) on the topic given. \nSummary\nSubmit your essay of 1000-1500 words on the following topic: Is nationalism an asset or hindrance in today’s globalized world? \nPrizes are per category (teachers and graduate students\, high school students\, undergraduate students). Winners receive Amazon gift card prizes as follows: (1st – $250) (2nd – $150) (3rd – $75). The deadline for submission is December 31st\, 2016. \nLinks\nThe original information page for this Event\, including full guidelines\, can be found here. It is hosted by the Carnegie Council for Ethics in International Affairs. \nRules\n[list style=”style2″]\n[li]Entrants must be teachers or students.[/li]\n[li]Entries must be 1000-1500 words.[/li]\n[li]Submit according to site guidelines.[/li]\n[/list] \nShare this:Click to share on Twitter (Opens in new window)Click to share on LinkedIn (Opens in new window)Click to share on Facebook (Opens in new window)Click to print (Opens in new window)Like this:Like Loading...
URL:https://micascottikole.com/events/international-studentteacher-essay-contest/
END:VEVENT
END:VCALENDAR