BEGIN:VCALENDAR
VERSION:2.0
PRODID:-//Mica Scotti Kole - ECPv5.2.0//NONSGML v1.0//EN
CALSCALE:GREGORIAN
METHOD:PUBLISH
X-WR-CALNAME:Mica Scotti Kole
X-ORIGINAL-URL:https://micascottikole.com
X-WR-CALDESC:Events for Mica Scotti Kole
BEGIN:VTIMEZONE
TZID:America/Detroit
BEGIN:DAYLIGHT
TZOFFSETFROM:-0500
TZOFFSETTO:-0400
TZNAME:EDT
DTSTART:20160313T070000
END:DAYLIGHT
BEGIN:STANDARD
TZOFFSETFROM:-0400
TZOFFSETTO:-0500
TZNAME:EST
DTSTART:20161106T060000
END:STANDARD
END:VTIMEZONE
BEGIN:VEVENT
DTSTART;VALUE=DATE:20161215
DTEND;VALUE=DATE:20161216
DTSTAMP:20260422T154456
CREATED:20161120T192926Z
LAST-MODIFIED:20161202T235216Z
UID:5580-1481760000-1481846399@micascottikole.com
SUMMARY:ENDING: Inkitt Horror Novelist Contest
DESCRIPTION:The Inkitt Horror Novelist Contest is for horror novels 40\,000 words and above. \nCreate an Inkitt account and upload a horror novel. A winner will be chosen in this genre and go on to compete with other genres for a $1000 grand prize. Submission runs from November 24th to 11:59pm PST on December 15th\, 2016. (It was changed from December 8th.) \nThe original information page for this event can be found here. \nInkitt Horror Novelist Contest Rules\n[list style=”style2″]\n[li]Entries must be 40\,000 words or more.[/li]\n[li]Previously published works acceptable.[/li]\n[li]Authors can be any age.[/li]\n[/list] \nShare this:Click to share on Twitter (Opens in new window)Click to share on LinkedIn (Opens in new window)Click to share on Facebook (Opens in new window)Click to print (Opens in new window)Like this:Like Loading...
URL:https://micascottikole.com/events/inkitt-horror/
END:VEVENT
END:VCALENDAR