BEGIN:VCALENDAR
VERSION:2.0
PRODID:-//Mica Scotti Kole - ECPv5.2.0//NONSGML v1.0//EN
CALSCALE:GREGORIAN
METHOD:PUBLISH
X-WR-CALNAME:Mica Scotti Kole
X-ORIGINAL-URL:https://micascottikole.com
X-WR-CALDESC:Events for Mica Scotti Kole
BEGIN:VTIMEZONE
TZID:UTC
BEGIN:STANDARD
TZOFFSETFROM:+0000
TZOFFSETTO:+0000
TZNAME:UTC
DTSTART:20160101T000000
END:STANDARD
END:VTIMEZONE
BEGIN:VEVENT
DTSTART;VALUE=DATE:20160715
DTEND;VALUE=DATE:20160716
DTSTAMP:20260425T034420
CREATED:20160716T011029Z
LAST-MODIFIED:20160726T000709Z
UID:4907-1468540800-1468627199@micascottikole.com
SUMMARY:ENDING: FutureScapes Contest
DESCRIPTION:FutureScapes is a Periodic Web Contest Event. \nWant to branch out from the novel-length side of things for a bit? Consider FutureScapes: write a short story (up to 8000 words) according to this year’s theme (Cities of Empowerment). Winners earn up to $2000 and have their manuscript placed in front of today’s leaders. \n“FutureScapes is an annual writing competition that asks writers to envision a particular sort of world\, and tell us a story about it. We could run projections and publish reports\, but there’s a reason why Wilde didn’t say\, “Life imitates empirical studies.” We want to help writers of excellent potential find their voice while shaping  tomorrow.” \nThe original information page for this Event can be found here and the rules page can be found here. \nFutureScapes Rules\n[list style=”style2″]\n[li]Some published authors are not allowed to enter (see original site’s rules).[/li]\n[li]Only U.S. citizens are eligible to enter.[/li]\n[li]Submissions must follow posted guidelines.[/li]\n[li]Only one entry per person per contest year.[/li]\n[li]Submitted stories must conform to the prompt.[/li]\n[li]Excessive violence\, language\, or sexual content will not be accepted.[/li]\n[/list] \nShare this:Click to share on Twitter (Opens in new window)Click to share on LinkedIn (Opens in new window)Click to share on Facebook (Opens in new window)Click to print (Opens in new window)Like this:Like Loading...
URL:https://micascottikole.com/events/futurescapes/
END:VEVENT
END:VCALENDAR