BEGIN:VCALENDAR
VERSION:2.0
PRODID:-//Mica Scotti Kole - ECPv5.2.0//NONSGML v1.0//EN
CALSCALE:GREGORIAN
METHOD:PUBLISH
X-WR-CALNAME:Mica Scotti Kole
X-ORIGINAL-URL:https://micascottikole.com
X-WR-CALDESC:Events for Mica Scotti Kole
BEGIN:VTIMEZONE
TZID:America/Detroit
BEGIN:DAYLIGHT
TZOFFSETFROM:-0500
TZOFFSETTO:-0400
TZNAME:EDT
DTSTART:20170312T070000
END:DAYLIGHT
BEGIN:STANDARD
TZOFFSETFROM:-0400
TZOFFSETTO:-0500
TZNAME:EST
DTSTART:20171105T060000
END:STANDARD
END:VTIMEZONE
BEGIN:VEVENT
DTSTART;VALUE=DATE:20170204
DTEND;VALUE=DATE:20170205
DTSTAMP:20260422T104704
CREATED:20170203T020448Z
LAST-MODIFIED:20170203T020448Z
UID:5998-1486166400-1486252799@micascottikole.com
SUMMARY:Free 1st 5 Pages
DESCRIPTION:Free 1st 5 Pages is for Middle Grade or Young Adult manuscripts. \nSummary\nSubmit the first five pages of your YA/MG manuscript according to formatting guidelines. The first five entries to come in will receive mentoring from professionals\, and one winning manuscript will get feedback directly from an agent. Submit at noon EST/ 5pm GMT on February 4th\, 2017. Follow the conversation on the hashtag #1st5pages. \nLinks\nThe original information page for this event can be found here. It is hosted by Adventures in YA Publishing. \nShare this:Click to share on Twitter (Opens in new window)Click to share on LinkedIn (Opens in new window)Click to share on Facebook (Opens in new window)Click to print (Opens in new window)Like this:Like Loading...
URL:https://micascottikole.com/events/free-1st-5-pages/
END:VEVENT
END:VCALENDAR