BEGIN:VCALENDAR
VERSION:2.0
PRODID:-//Mica Scotti Kole - ECPv5.2.0//NONSGML v1.0//EN
CALSCALE:GREGORIAN
METHOD:PUBLISH
X-WR-CALNAME:Mica Scotti Kole
X-ORIGINAL-URL:https://micascottikole.com
X-WR-CALDESC:Events for Mica Scotti Kole
BEGIN:VTIMEZONE
TZID:America/Detroit
BEGIN:DAYLIGHT
TZOFFSETFROM:-0500
TZOFFSETTO:-0400
TZNAME:EDT
DTSTART:20170312T070000
END:DAYLIGHT
BEGIN:STANDARD
TZOFFSETFROM:-0400
TZOFFSETTO:-0500
TZNAME:EST
DTSTART:20171105T060000
END:STANDARD
END:VTIMEZONE
BEGIN:VEVENT
DTSTART;VALUE=DATE:20170204
DTEND;VALUE=DATE:20170205
DTSTAMP:20260422T044310
CREATED:20170203T030548Z
LAST-MODIFIED:20170302T155033Z
UID:6013-1486166400-1486252799@micascottikole.com
SUMMARY:Four on 400
DESCRIPTION:The Four on 400 is a random drawing contest for authors of middle grade or young adult. \nSummary\nOn 4pm of the fourth day of every month\, the Four on 400 blog post will go up on the host blog. Comment on the post to enter the contest. A random winner will be drawn from the pool. The winner will submit their first 40o words and have it critiqued by 4 professionals directly on the blog. \nLinks\nThis event occurs monthly. See more information here. This event is hosted by @WingedPen. \nShare this:Click to share on Twitter (Opens in new window)Click to share on LinkedIn (Opens in new window)Click to share on Facebook (Opens in new window)Click to print (Opens in new window)Like this:Like Loading...
URL:https://micascottikole.com/events/four-on-400/
END:VEVENT
END:VCALENDAR