BEGIN:VCALENDAR
VERSION:2.0
PRODID:-//Mica Scotti Kole - ECPv5.2.0//NONSGML v1.0//EN
CALSCALE:GREGORIAN
METHOD:PUBLISH
X-WR-CALNAME:Mica Scotti Kole
X-ORIGINAL-URL:https://micascottikole.com
X-WR-CALDESC:Events for Mica Scotti Kole
BEGIN:VTIMEZONE
TZID:America/Detroit
BEGIN:DAYLIGHT
TZOFFSETFROM:-0500
TZOFFSETTO:-0400
TZNAME:EDT
DTSTART:20170312T070000
END:DAYLIGHT
BEGIN:STANDARD
TZOFFSETFROM:-0400
TZOFFSETTO:-0500
TZNAME:EST
DTSTART:20171105T060000
END:STANDARD
END:VTIMEZONE
BEGIN:VEVENT
DTSTART;VALUE=DATE:20170531
DTEND;VALUE=DATE:20170601
DTSTAMP:20260420T181824
CREATED:20170418T220308Z
LAST-MODIFIED:20170418T220320Z
UID:6723-1496188800-1496275199@micascottikole.com
SUMMARY:ENDING: Financial Poise Essay Contest (Student)
DESCRIPTION:For informational essays on the topic “How can one achieve financial success by her or his 40s?” by students enrolled in a four-year university or college (or post-graduate studies). Essays must be between 5 and 7 double-spaced pages. First prize is $1000 and two second-place prizes are $500. \nMore info here. Sponsored by Financial Poise. \nShare this:Click to share on Twitter (Opens in new window)Click to share on LinkedIn (Opens in new window)Click to share on Facebook (Opens in new window)Click to print (Opens in new window)Like this:Like Loading...
URL:https://micascottikole.com/events/financial-poise-essay-contest/
ATTACH;FMTTYPE=image/png:https://micascottikole.com/wp-content/uploads/2017/04/BG_Informational.png
END:VEVENT
END:VCALENDAR