BEGIN:VCALENDAR
VERSION:2.0
PRODID:-//Mica Scotti Kole - ECPv5.2.0//NONSGML v1.0//EN
CALSCALE:GREGORIAN
METHOD:PUBLISH
X-WR-CALNAME:Mica Scotti Kole
X-ORIGINAL-URL:https://micascottikole.com
X-WR-CALDESC:Events for Mica Scotti Kole
BEGIN:VTIMEZONE
TZID:UTC
BEGIN:STANDARD
TZOFFSETFROM:+0000
TZOFFSETTO:+0000
TZNAME:UTC
DTSTART:20160101T000000
END:STANDARD
END:VTIMEZONE
BEGIN:VEVENT
DTSTART;VALUE=DATE:20160731
DTEND;VALUE=DATE:20160801
DTSTAMP:20260425T082732
CREATED:20160726T003201Z
LAST-MODIFIED:20160726T003201Z
UID:4949-1469923200-1470009599@micascottikole.com
SUMMARY:ENDING: Print Express Flash Contest
DESCRIPTION:The Print Express Flash Fiction Contest is a Periodic Web Contest  for flash fiction up to 150 words. \nSubmit your flash fiction up to 150 words for a chance to win publication and a $100 Amazon gift card. There is no theme\, provided the work is family friendly. The title is not included in the 150-word count. Enter by emailing your entry to competitions@printexpress.co.uk. \nThe original information page for this Event can be found here. \nPrint Express Flash Contest Rules\n[list style=”style2″]\n[li]The work must be family friendly.[/li]\n[li]The work must be original.[/li]\n[li]The work must not exceed 150 words.[/li]\n[/list] \nShare this:Click to share on Twitter (Opens in new window)Click to share on LinkedIn (Opens in new window)Click to share on Facebook (Opens in new window)Click to print (Opens in new window)Like this:Like Loading...
URL:https://micascottikole.com/events/ending/
END:VEVENT
END:VCALENDAR