BEGIN:VCALENDAR
VERSION:2.0
PRODID:-//Mica Scotti Kole - ECPv5.2.0//NONSGML v1.0//EN
CALSCALE:GREGORIAN
METHOD:PUBLISH
X-WR-CALNAME:Mica Scotti Kole
X-ORIGINAL-URL:https://micascottikole.com
X-WR-CALDESC:Events for Mica Scotti Kole
BEGIN:VTIMEZONE
TZID:America/Detroit
BEGIN:DAYLIGHT
TZOFFSETFROM:-0500
TZOFFSETTO:-0400
TZNAME:EDT
DTSTART:20200308T070000
END:DAYLIGHT
BEGIN:STANDARD
TZOFFSETFROM:-0400
TZOFFSETTO:-0500
TZNAME:EST
DTSTART:20201101T060000
END:STANDARD
END:VTIMEZONE
BEGIN:VEVENT
DTSTART;VALUE=DATE:20200213
DTEND;VALUE=DATE:20200214
DTSTAMP:20260421T151115
CREATED:20200205T033527Z
LAST-MODIFIED:20200205T033527Z
UID:10704-1581552000-1581638399@micascottikole.com
SUMMARY:ENDING: Yearbook Short Story Competition
DESCRIPTION:The Yearbook Short Story Competition is for short fiction of up to 2\,000 words by any author. Prize is publication.   \nMore info here.  Sponsored/Hosted by Bloomsbury Publishing. \nThis month\, Free Writing Events is training an intern! Please excuse any grammar and spelling mistakes we work through the training process. Thank you!  \nSee any errors? Have we missed an event?\nContact Mica at elusivepressbooks *at* gmail. \nShare this:Click to share on Twitter (Opens in new window)Click to share on LinkedIn (Opens in new window)Click to share on Facebook (Opens in new window)Click to print (Opens in new window)Like this:Like Loading...
URL:https://micascottikole.com/events/ending-yearbook-short-story-competition-3/
ATTACH;FMTTYPE=image/png:https://micascottikole.com/wp-content/uploads/2017/04/BG_ShortStory.png
END:VEVENT
END:VCALENDAR