BEGIN:VCALENDAR
VERSION:2.0
PRODID:-//Mica Scotti Kole - ECPv5.2.0//NONSGML v1.0//EN
CALSCALE:GREGORIAN
METHOD:PUBLISH
X-WR-CALNAME:Mica Scotti Kole
X-ORIGINAL-URL:https://micascottikole.com
X-WR-CALDESC:Events for Mica Scotti Kole
BEGIN:VTIMEZONE
TZID:America/Detroit
BEGIN:DAYLIGHT
TZOFFSETFROM:-0500
TZOFFSETTO:-0400
TZNAME:EDT
DTSTART:20180311T070000
END:DAYLIGHT
BEGIN:STANDARD
TZOFFSETFROM:-0400
TZOFFSETTO:-0500
TZNAME:EST
DTSTART:20181104T060000
END:STANDARD
END:VTIMEZONE
BEGIN:VEVENT
DTSTART;VALUE=DATE:20180831
DTEND;VALUE=DATE:20180901
DTSTAMP:20260422T091043
CREATED:20180802T044245Z
LAST-MODIFIED:20180815T191518Z
UID:9229-1535673600-1535759999@micascottikole.com
SUMMARY:ENDING: Woods Memorial Award (Closed?)
DESCRIPTION:NOTE: It appears that this contest has either been closed or cancelled. Terminology on the site is confusing so it’s not certain\, but there seems to be no way to submit. \nThe Woods Memorial Award is for nonfiction essays of up to 5000 words by any author. Prize is $250 and publication in a literary journal. \nMore info here. Sponsored/Hosted by Lunch Ticket. \nFree Writing Events offers budget editing services from $5-12!\nYou can also support FWE on Patreon to keep it ad-free. \nSee any errors? Have I missed an event?\nContact me! \nShare this:Click to share on Twitter (Opens in new window)Click to share on LinkedIn (Opens in new window)Click to share on Facebook (Opens in new window)Click to print (Opens in new window)Like this:Like Loading...
URL:https://micascottikole.com/events/ending-woods-memorial-award/
ATTACH;FMTTYPE=image/png:https://micascottikole.com/wp-content/uploads/2017/04/BG_PersonalEssay.png
END:VEVENT
END:VCALENDAR