BEGIN:VCALENDAR
VERSION:2.0
PRODID:-//Mica Scotti Kole - ECPv5.2.0//NONSGML v1.0//EN
CALSCALE:GREGORIAN
METHOD:PUBLISH
X-WR-CALNAME:Mica Scotti Kole
X-ORIGINAL-URL:https://micascottikole.com
X-WR-CALDESC:Events for Mica Scotti Kole
BEGIN:VTIMEZONE
TZID:America/Detroit
BEGIN:DAYLIGHT
TZOFFSETFROM:-0500
TZOFFSETTO:-0400
TZNAME:EDT
DTSTART:20180311T070000
END:DAYLIGHT
BEGIN:STANDARD
TZOFFSETFROM:-0400
TZOFFSETTO:-0500
TZNAME:EST
DTSTART:20181104T060000
END:STANDARD
END:VTIMEZONE
BEGIN:VEVENT
DTSTART;VALUE=DATE:20180810
DTEND;VALUE=DATE:20180811
DTSTAMP:20260418T032213
CREATED:20180802T043336Z
LAST-MODIFIED:20180802T043336Z
UID:9213-1533859200-1533945599@micascottikole.com
SUMMARY:ENDING: Women on the Water Competition (Women)
DESCRIPTION:The Women on the Water Competition (Women) is for nonfiction essays of up to 1500 words by women. Prize is AUD $25-100 and publication. The theme is “facing your fear” and must involve the use of water vehicles/water sports\, such as snorkeling\, boating\, or kayaking. PLEASE NOTE: It’s possible that shortlisted entries may be published without payment to the author; read the site’s fine print if this concerns you. \nMore info here. Sponsored/Hosted by SisterShip Magazine. \nFree Writing Events offers budget editing services from $5-12!\nYou can also support FWE on Patreon to keep it ad-free. \nSee any errors? Have I missed an event?\nContact me! \nShare this:Click to share on Twitter (Opens in new window)Click to share on LinkedIn (Opens in new window)Click to share on Facebook (Opens in new window)Click to print (Opens in new window)Like this:Like Loading...
URL:https://micascottikole.com/events/ending-women-water-competition-women/
ATTACH;FMTTYPE=image/png:https://micascottikole.com/wp-content/uploads/2017/04/BG_PersonalEssay.png
END:VEVENT
END:VCALENDAR