BEGIN:VCALENDAR
VERSION:2.0
PRODID:-//Mica Scotti Kole - ECPv5.2.0//NONSGML v1.0//EN
CALSCALE:GREGORIAN
METHOD:PUBLISH
X-WR-CALNAME:Mica Scotti Kole
X-ORIGINAL-URL:https://micascottikole.com
X-WR-CALDESC:Events for Mica Scotti Kole
BEGIN:VTIMEZONE
TZID:America/Detroit
BEGIN:DAYLIGHT
TZOFFSETFROM:-0500
TZOFFSETTO:-0400
TZNAME:EDT
DTSTART:20160313T070000
END:DAYLIGHT
BEGIN:STANDARD
TZOFFSETFROM:-0400
TZOFFSETTO:-0500
TZNAME:EST
DTSTART:20161106T060000
END:STANDARD
END:VTIMEZONE
BEGIN:VEVENT
DTSTART;VALUE=DATE:20161130
DTEND;VALUE=DATE:20161201
DTSTAMP:20260419T134420
CREATED:20161123T210828Z
LAST-MODIFIED:20161123T210828Z
UID:5591-1480464000-1480550399@micascottikole.com
SUMMARY:ENDING: Wax Poetry Contest #12
DESCRIPTION:The Wax Poetry Contest #12 is for any poetry by any author. \nSubmit up to three poems of any length. Prizes include publication in Wax and monetary prizes as follows: (1st: $100 CAD) (2nd: $20 CAD) (3rd: $10 CAD) (Best Canadian Author: $20 CAD). Submission ends on November 30th\, 2016. \nThe original information page for this event can be found here. \nWax Poetry Contest #12 Rules\n[list style=”style2″]\n[li]No simultaneous submission.[/li]\n[li]Entries must be previously unpublished.[/li]\n[li]Follow submission guidelines.[/li]\n[/list] \nShare this:Click to share on Twitter (Opens in new window)Click to share on LinkedIn (Opens in new window)Click to share on Facebook (Opens in new window)Click to print (Opens in new window)Like this:Like Loading...
URL:https://micascottikole.com/events/ending-wax-poetry-contest-12/
END:VEVENT
END:VCALENDAR