BEGIN:VCALENDAR
VERSION:2.0
PRODID:-//Mica Scotti Kole - ECPv5.2.0//NONSGML v1.0//EN
CALSCALE:GREGORIAN
METHOD:PUBLISH
X-WR-CALNAME:Mica Scotti Kole
X-ORIGINAL-URL:https://micascottikole.com
X-WR-CALDESC:Events for Mica Scotti Kole
BEGIN:VTIMEZONE
TZID:America/Detroit
BEGIN:DAYLIGHT
TZOFFSETFROM:-0500
TZOFFSETTO:-0400
TZNAME:EDT
DTSTART:20170312T070000
END:DAYLIGHT
BEGIN:STANDARD
TZOFFSETFROM:-0400
TZOFFSETTO:-0500
TZNAME:EST
DTSTART:20171105T060000
END:STANDARD
END:VTIMEZONE
BEGIN:VEVENT
DTSTART;VALUE=DATE:20170515
DTEND;VALUE=DATE:20170516
DTSTAMP:20260422T093208
CREATED:20170426T163455Z
LAST-MODIFIED:20170426T163455Z
UID:6750-1494806400-1494892799@micascottikole.com
SUMMARY:ENDING: Washington State Artist Trust (US:WA)
DESCRIPTION:Quoted from Poets & Writers: \nGrants of up to $1\,500 each are given annually to poets\, fiction writers\, and nonfiction writers who are residents of Washington State. Students enrolled in a degree-granting program are ineligible. Submit a writing sample of up to 12 pages with a project description\, synopsis\, budget\, and résumé by May 15. There is no application fee. Visit the website for complete guidelines. \nMore information here. Hosted by artisttrust.org. \nShare this:Click to share on Twitter (Opens in new window)Click to share on LinkedIn (Opens in new window)Click to share on Facebook (Opens in new window)Click to print (Opens in new window)Like this:Like Loading...
URL:https://micascottikole.com/events/ending-washington-state-artist-trust-uswa/
ATTACH;FMTTYPE=image/png:https://micascottikole.com/wp-content/uploads/2017/04/BG_Fellowship.png
END:VEVENT
END:VCALENDAR