BEGIN:VCALENDAR
VERSION:2.0
PRODID:-//Mica Scotti Kole - ECPv5.2.0//NONSGML v1.0//EN
CALSCALE:GREGORIAN
METHOD:PUBLISH
X-WR-CALNAME:Mica Scotti Kole
X-ORIGINAL-URL:https://micascottikole.com
X-WR-CALDESC:Events for Mica Scotti Kole
BEGIN:VTIMEZONE
TZID:America/Detroit
BEGIN:DAYLIGHT
TZOFFSETFROM:-0500
TZOFFSETTO:-0400
TZNAME:EDT
DTSTART:20180311T070000
END:DAYLIGHT
BEGIN:STANDARD
TZOFFSETFROM:-0400
TZOFFSETTO:-0500
TZNAME:EST
DTSTART:20181104T060000
END:STANDARD
END:VTIMEZONE
BEGIN:VEVENT
DTSTART;VALUE=DATE:20180625
DTEND;VALUE=DATE:20180626
DTSTAMP:20260421T230804
CREATED:20180530T054737Z
LAST-MODIFIED:20180530T054737Z
UID:9041-1529884800-1529971199@micascottikole.com
SUMMARY:ENDING: Washington State Artist Trust (USA: WA)
DESCRIPTION:The Artist Trust Grants for artist Projects is for poets\, fiction writers\, and nonfiction writers who are residents of Washington state\, USA. Submit a writing sample up to 10 pages to enter. Prize is a grant up to $1500. \nMore info here. Sponsored by Artist Trust. \n  \nFree Writing Events offers budget editing services from $5-10!\nYou can also support FWE on Patreon to keep it ad-free. \nSee any errors? Have I missed an event?\nContact me! \nShare this:Click to share on Twitter (Opens in new window)Click to share on LinkedIn (Opens in new window)Click to share on Facebook (Opens in new window)Click to print (Opens in new window)Like this:Like Loading...
URL:https://micascottikole.com/events/ending-washington-state-artist-trust-usa-wa/
ATTACH;FMTTYPE=image/png:https://micascottikole.com/wp-content/uploads/2017/04/BG_Various.png
END:VEVENT
END:VCALENDAR