BEGIN:VCALENDAR
VERSION:2.0
PRODID:-//Mica Scotti Kole - ECPv5.2.0//NONSGML v1.0//EN
CALSCALE:GREGORIAN
METHOD:PUBLISH
X-WR-CALNAME:Mica Scotti Kole
X-ORIGINAL-URL:https://micascottikole.com
X-WR-CALDESC:Events for Mica Scotti Kole
BEGIN:VTIMEZONE
TZID:America/Detroit
BEGIN:DAYLIGHT
TZOFFSETFROM:-0500
TZOFFSETTO:-0400
TZNAME:EDT
DTSTART:20170312T070000
END:DAYLIGHT
BEGIN:STANDARD
TZOFFSETFROM:-0400
TZOFFSETTO:-0500
TZNAME:EST
DTSTART:20171105T060000
END:STANDARD
END:VTIMEZONE
BEGIN:VEVENT
DTSTART;VALUE=DATE:20170623
DTEND;VALUE=DATE:20170624
DTSTAMP:20260417T231136
CREATED:20170525T062743Z
LAST-MODIFIED:20170525T062743Z
UID:6933-1498176000-1498262399@micascottikole.com
SUMMARY:ENDING: Utah Original Writing Competition (US: UT)
DESCRIPTION:The Utah Original Writing Competition is for work by Utah writers in any of the following genres: “previously unpublished book-length novels\, creative nonfiction and history\, poetry or short story collections\, and juvenile literature\, plus smaller awards for individual poems\, stories\, and essays.” (Quoted from here.) Prizes up to $1000 depending on category. \nMore info here. Sponsored by this site. \n— \nFind my events helpful?\nHere are ways you can support me: \n♠ Sign up for my once-a-month newsletter! \n♠ Comment on my blog! \n♠ Donate $1 on Patreon! \nShare this:Click to share on Twitter (Opens in new window)Click to share on LinkedIn (Opens in new window)Click to share on Facebook (Opens in new window)Click to print (Opens in new window)Like this:Like Loading...
URL:https://micascottikole.com/events/ending-utah-original-writing-competition-us-ut/
ATTACH;FMTTYPE=image/png:https://micascottikole.com/wp-content/uploads/2017/04/BG_Various.png
END:VEVENT
END:VCALENDAR