BEGIN:VCALENDAR
VERSION:2.0
PRODID:-//Mica Scotti Kole - ECPv5.2.0//NONSGML v1.0//EN
CALSCALE:GREGORIAN
METHOD:PUBLISH
X-WR-CALNAME:Mica Scotti Kole
X-ORIGINAL-URL:https://micascottikole.com
X-WR-CALDESC:Events for Mica Scotti Kole
BEGIN:VTIMEZONE
TZID:America/Detroit
BEGIN:DAYLIGHT
TZOFFSETFROM:-0500
TZOFFSETTO:-0400
TZNAME:EDT
DTSTART:20170312T070000
END:DAYLIGHT
BEGIN:STANDARD
TZOFFSETFROM:-0400
TZOFFSETTO:-0500
TZNAME:EST
DTSTART:20171105T060000
END:STANDARD
END:VTIMEZONE
BEGIN:VEVENT
DTSTART;VALUE=DATE:20170731
DTEND;VALUE=DATE:20170801
DTSTAMP:20260423T123801
CREATED:20170304T001235Z
LAST-MODIFIED:20170417T183111Z
UID:6391-1501459200-1501545599@micascottikole.com
SUMMARY:ENDING: Travel For Seniors Contest (Age 55+)
DESCRIPTION:The Travel For Seniors Contest is for travel essays up to 750 words by authors aged 55+ on the theme “Travel For Seniors.” The prize is £200 with several £10 runners-up. \nMore information here. This event is hosted by Senior Travel Expert. \nShare this:Click to share on Twitter (Opens in new window)Click to share on LinkedIn (Opens in new window)Click to share on Facebook (Opens in new window)Click to print (Opens in new window)Like this:Like Loading...
URL:https://micascottikole.com/events/ending-travel-seniors-contest-age-55/
ATTACH;FMTTYPE=image/png:https://micascottikole.com/wp-content/uploads/2017/04/BG_PersonalEssay.png
END:VEVENT
END:VCALENDAR