BEGIN:VCALENDAR
VERSION:2.0
PRODID:-//Mica Scotti Kole - ECPv5.2.0//NONSGML v1.0//EN
CALSCALE:GREGORIAN
METHOD:PUBLISH
X-WR-CALNAME:Mica Scotti Kole
X-ORIGINAL-URL:https://micascottikole.com
X-WR-CALDESC:Events for Mica Scotti Kole
BEGIN:VTIMEZONE
TZID:America/Detroit
BEGIN:DAYLIGHT
TZOFFSETFROM:-0500
TZOFFSETTO:-0400
TZNAME:EDT
DTSTART:20170312T070000
END:DAYLIGHT
BEGIN:STANDARD
TZOFFSETFROM:-0400
TZOFFSETTO:-0500
TZNAME:EST
DTSTART:20171105T060000
END:STANDARD
END:VTIMEZONE
BEGIN:VEVENT
DTSTART;VALUE=DATE:20171031
DTEND;VALUE=DATE:20171101
DTSTAMP:20260422T013558
CREATED:20170928T180808Z
LAST-MODIFIED:20170928T180808Z
UID:7690-1509408000-1509494399@micascottikole.com
SUMMARY:ENDING: Tom-Gallon Trust Award (Pubbed)(UK/IRL)
DESCRIPTION:The Tom-Gallon Trust Award is for traditional short stories up to 5000 words by previously published UK/IRL authors. The stories can be published or unpublished. Prizes are £1000 and £500. \nMore info here and here. Hosted by the Society of Authors. \nFind my events helpful?\n Donate $1 on Patreon to keep me ad-free! \nShare this:Click to share on Twitter (Opens in new window)Click to share on LinkedIn (Opens in new window)Click to share on Facebook (Opens in new window)Click to print (Opens in new window)Like this:Like Loading...
URL:https://micascottikole.com/events/ending-tom-gallon-trust-award-pubbedukirl/
ATTACH;FMTTYPE=image/png:https://micascottikole.com/wp-content/uploads/2017/04/BG_Published.png
END:VEVENT
END:VCALENDAR