BEGIN:VCALENDAR
VERSION:2.0
PRODID:-//Mica Scotti Kole - ECPv5.2.0//NONSGML v1.0//EN
CALSCALE:GREGORIAN
METHOD:PUBLISH
X-WR-CALNAME:Mica Scotti Kole
X-ORIGINAL-URL:https://micascottikole.com
X-WR-CALDESC:Events for Mica Scotti Kole
BEGIN:VTIMEZONE
TZID:America/Detroit
BEGIN:DAYLIGHT
TZOFFSETFROM:-0500
TZOFFSETTO:-0400
TZNAME:EDT
DTSTART:20170312T070000
END:DAYLIGHT
BEGIN:STANDARD
TZOFFSETFROM:-0400
TZOFFSETTO:-0500
TZNAME:EST
DTSTART:20171105T060000
END:STANDARD
END:VTIMEZONE
BEGIN:VEVENT
DTSTART;VALUE=DATE:20170605
DTEND;VALUE=DATE:20170606
DTSTAMP:20260419T235715
CREATED:20170427T034353Z
LAST-MODIFIED:20170427T034353Z
UID:6793-1496620800-1496707199@micascottikole.com
SUMMARY:ENDING: "When I Think of My Dad" Essay Contest
DESCRIPTION:The “When I Think of My Dad” Essay Contest is for personal essays up to 250 words on what your father means to you. Prize is $200. \nMore info here. Hosted by DrugRehab.org. \nWas this page helpful? Consider supporting me on Patreon for $1/month. It keeps my website ad-free and helps me manage these events… and it earns you some cool stuff too! \nShare this:Click to share on Twitter (Opens in new window)Click to share on LinkedIn (Opens in new window)Click to share on Facebook (Opens in new window)Click to print (Opens in new window)Like this:Like Loading...
URL:https://micascottikole.com/events/ending-think-dad-essay-contest/
ATTACH;FMTTYPE=image/png:https://micascottikole.com/wp-content/uploads/2017/04/BG_PersonalEssay.png
END:VEVENT
END:VCALENDAR