BEGIN:VCALENDAR
VERSION:2.0
PRODID:-//Mica Scotti Kole - ECPv5.2.0//NONSGML v1.0//EN
CALSCALE:GREGORIAN
METHOD:PUBLISH
X-WR-CALNAME:Mica Scotti Kole
X-ORIGINAL-URL:https://micascottikole.com
X-WR-CALDESC:Events for Mica Scotti Kole
BEGIN:VTIMEZONE
TZID:America/Detroit
BEGIN:DAYLIGHT
TZOFFSETFROM:-0500
TZOFFSETTO:-0400
TZNAME:EDT
DTSTART:20180311T070000
END:DAYLIGHT
BEGIN:STANDARD
TZOFFSETFROM:-0400
TZOFFSETTO:-0500
TZNAME:EST
DTSTART:20181104T060000
END:STANDARD
END:VTIMEZONE
BEGIN:VEVENT
DTSTART;VALUE=DATE:20180916
DTEND;VALUE=DATE:20180917
DTSTAMP:20260422T092449
CREATED:20180802T043501Z
LAST-MODIFIED:20180802T043501Z
UID:9217-1537056000-1537142399@micascottikole.com
SUMMARY:ENDING: Story Cities Flash Contest
DESCRIPTION:The Story Cities Flash Contest is for flash fiction of up to 500 words by any author 18 or over. Prize is publication and a copy of the anthology. The theme is “the city.” \nMore info here/here. Sponsored/Hosted by Story Cities. \nFree Writing Events offers budget editing services from $5-12!\nYou can also support FWE on Patreon to keep it ad-free. \nSee any errors? Have I missed an event?\nContact me! \nShare this:Click to share on Twitter (Opens in new window)Click to share on LinkedIn (Opens in new window)Click to share on Facebook (Opens in new window)Click to print (Opens in new window)Like this:Like Loading...
URL:https://micascottikole.com/events/ending-story-cities-flash-contest/
ATTACH;FMTTYPE=image/png:https://micascottikole.com/wp-content/uploads/2017/04/BG_Flash.png
END:VEVENT
END:VCALENDAR