BEGIN:VCALENDAR
VERSION:2.0
PRODID:-//Mica Scotti Kole - ECPv5.2.0//NONSGML v1.0//EN
CALSCALE:GREGORIAN
METHOD:PUBLISH
X-WR-CALNAME:Mica Scotti Kole
X-ORIGINAL-URL:https://micascottikole.com
X-WR-CALDESC:Events for Mica Scotti Kole
BEGIN:VTIMEZONE
TZID:America/Detroit
BEGIN:DAYLIGHT
TZOFFSETFROM:-0500
TZOFFSETTO:-0400
TZNAME:EDT
DTSTART:20170312T070000
END:DAYLIGHT
BEGIN:STANDARD
TZOFFSETFROM:-0400
TZOFFSETTO:-0500
TZNAME:EST
DTSTART:20171105T060000
END:STANDARD
END:VTIMEZONE
BEGIN:VEVENT
DTSTART;VALUE=DATE:20170722
DTEND;VALUE=DATE:20170723
DTSTAMP:20260423T022834
CREATED:20170626T192052Z
LAST-MODIFIED:20170626T192052Z
UID:7267-1500681600-1500767999@micascottikole.com
SUMMARY:ENDING: Stone Canoe Nonfiction Awards (US:NY)-OR-(Military)
DESCRIPTION:The Stone Canoe Nonfiction Award is for 1-5 nonfiction pieces up to 8500 words each by anyone who is living or has lived in upstate New York (or US military veterans living anywhere\, but their due date is earlier at July 8). Prize is $500 for the best entry\, but multiple entrants will be published. \nMore info here and here. Self-hosted. \n— \nFind my events helpful?\nHere are ways you can support me: \n♠ Sign up for my once-a-month newsletter! \n♠ Comment on/re-post my blog! \n♠ Donate $1 on Patreon! \nShare this:Click to share on Twitter (Opens in new window)Click to share on LinkedIn (Opens in new window)Click to share on Facebook (Opens in new window)Click to print (Opens in new window)Like this:Like Loading...
URL:https://micascottikole.com/events/ending-stone-canoe-nonfiction-awards-usny-military/
ATTACH;FMTTYPE=image/png:https://micascottikole.com/wp-content/uploads/2017/04/BG_PersonalEssay.png
END:VEVENT
END:VCALENDAR