BEGIN:VCALENDAR
VERSION:2.0
PRODID:-//Mica Scotti Kole - ECPv5.2.0//NONSGML v1.0//EN
CALSCALE:GREGORIAN
METHOD:PUBLISH
X-WR-CALNAME:Mica Scotti Kole
X-ORIGINAL-URL:https://micascottikole.com
X-WR-CALDESC:Events for Mica Scotti Kole
BEGIN:VTIMEZONE
TZID:America/Detroit
BEGIN:DAYLIGHT
TZOFFSETFROM:-0500
TZOFFSETTO:-0400
TZNAME:EDT
DTSTART:20200308T070000
END:DAYLIGHT
BEGIN:STANDARD
TZOFFSETFROM:-0400
TZOFFSETTO:-0500
TZNAME:EST
DTSTART:20201101T060000
END:STANDARD
END:VTIMEZONE
BEGIN:VEVENT
DTSTART;VALUE=DATE:20200203
DTEND;VALUE=DATE:20200204
DTSTAMP:20260420T100828
CREATED:20200108T035245Z
LAST-MODIFIED:20200108T052204Z
UID:10628-1580688000-1580774399@micascottikole.com
SUMMARY:ENDING: Spread the Word Life Writing Prize (UK)
DESCRIPTION:The Spread the Word Life Writing Prize (UK) is for personal essays/life writing of up to 5000 words by UK authors. Prize is £1\,500. \nMore info here. Sponsored/Hosted by Spread The Word. \nFree Writing Events offers budget editing services from $5! \nSee any errors? Have I missed an event?\nContact me! \nShare this:Click to share on Twitter (Opens in new window)Click to share on LinkedIn (Opens in new window)Click to share on Facebook (Opens in new window)Click to print (Opens in new window)Like this:Like Loading...
URL:https://micascottikole.com/events/ending-spread-word-life-writing-prize-uk/
ATTACH;FMTTYPE=image/png:https://micascottikole.com/wp-content/uploads/2017/04/BG_Nonfiction.png
END:VEVENT
END:VCALENDAR