BEGIN:VCALENDAR
VERSION:2.0
PRODID:-//Mica Scotti Kole - ECPv5.2.0//NONSGML v1.0//EN
CALSCALE:GREGORIAN
METHOD:PUBLISH
X-WR-CALNAME:Mica Scotti Kole
X-ORIGINAL-URL:https://micascottikole.com
X-WR-CALDESC:Events for Mica Scotti Kole
BEGIN:VTIMEZONE
TZID:America/Detroit
BEGIN:DAYLIGHT
TZOFFSETFROM:-0500
TZOFFSETTO:-0400
TZNAME:EDT
DTSTART:20170312T070000
END:DAYLIGHT
BEGIN:STANDARD
TZOFFSETFROM:-0400
TZOFFSETTO:-0500
TZNAME:EST
DTSTART:20171105T060000
END:STANDARD
END:VTIMEZONE
BEGIN:VEVENT
DTSTART;VALUE=DATE:20170527
DTEND;VALUE=DATE:20170528
DTSTAMP:20260420T125425
CREATED:20170427T033832Z
LAST-MODIFIED:20170427T033832Z
UID:6791-1495843200-1495929599@micascottikole.com
SUMMARY:ENDING: Sapiens Plurum Fiction Contest
DESCRIPTION:The Sapiens Plurum Fiction Contest is for short stories 1500-3000 words that challenge readers to imagine a future where humanity has become something better – or worse. Must be 18 or older. Prizes are $1000 | $500 | $300. \nMore info here. Hosted by Sapiens Plurum. \nWas this page helpful? Consider supporting me on Patreon for $1/month. It keeps my website ad-free and helps me manage these events… and it earns you some cool stuff too! \nShare this:Click to share on Twitter (Opens in new window)Click to share on LinkedIn (Opens in new window)Click to share on Facebook (Opens in new window)Click to print (Opens in new window)Like this:Like Loading...
URL:https://micascottikole.com/events/ending-sapiens-plurum-fiction-contest/
ATTACH;FMTTYPE=image/png:https://micascottikole.com/wp-content/uploads/2017/04/BG_ShortStory.png
END:VEVENT
END:VCALENDAR