BEGIN:VCALENDAR
VERSION:2.0
PRODID:-//Mica Scotti Kole - ECPv5.2.0//NONSGML v1.0//EN
CALSCALE:GREGORIAN
METHOD:PUBLISH
X-WR-CALNAME:Mica Scotti Kole
X-ORIGINAL-URL:https://micascottikole.com
X-WR-CALDESC:Events for Mica Scotti Kole
BEGIN:VTIMEZONE
TZID:UTC
BEGIN:STANDARD
TZOFFSETFROM:+0000
TZOFFSETTO:+0000
TZNAME:UTC
DTSTART:20160101T000000
END:STANDARD
END:VTIMEZONE
BEGIN:VEVENT
DTSTART;VALUE=DATE:20161001
DTEND;VALUE=DATE:20161002
DTSTAMP:20260420T123435
CREATED:20160818T012344Z
LAST-MODIFIED:20160923T163616Z
UID:5107-1475280000-1475366399@micascottikole.com
SUMMARY:ENDING: RRPI Humor Contest
DESCRIPTION:The RRPI Humor Short Story Contest is a Facebook Contest. \nSubmit a short story that makes your readers laugh. This is the only genre limitation. Works must be 3\,000-5\,000 words. All entries will receive a brief review. The top submission will win a $50 Amazon Gift Card. The top five entries will get publication in the annual RRPI anthology\, and receive a free eBook copy. \nSubmit at this link. To see the original information page for this Event\, click here.  \nRRPI Humor Contest Rules\n[list style=”style2″]\n[li]Submissions must be 3\,000-5\,000 words.[/li]\n[li]Only one entry per person.[/li]\n[/list] \nShare this:Click to share on Twitter (Opens in new window)Click to share on LinkedIn (Opens in new window)Click to share on Facebook (Opens in new window)Click to print (Opens in new window)Like this:Like Loading...
URL:https://micascottikole.com/events/ending-rrpi-humor-contest/
END:VEVENT
END:VCALENDAR