BEGIN:VCALENDAR
VERSION:2.0
PRODID:-//Mica Scotti Kole - ECPv5.2.0//NONSGML v1.0//EN
CALSCALE:GREGORIAN
METHOD:PUBLISH
X-WR-CALNAME:Mica Scotti Kole
X-ORIGINAL-URL:https://micascottikole.com
X-WR-CALDESC:Events for Mica Scotti Kole
BEGIN:VTIMEZONE
TZID:America/Detroit
BEGIN:DAYLIGHT
TZOFFSETFROM:-0500
TZOFFSETTO:-0400
TZNAME:EDT
DTSTART:20170312T070000
END:DAYLIGHT
BEGIN:STANDARD
TZOFFSETFROM:-0400
TZOFFSETTO:-0500
TZNAME:EST
DTSTART:20171105T060000
END:STANDARD
END:VTIMEZONE
BEGIN:VEVENT
DTSTART;VALUE=DATE:20170531
DTEND;VALUE=DATE:20170601
DTSTAMP:20260420T164441
CREATED:20170427T025233Z
LAST-MODIFIED:20170427T025233Z
UID:6778-1496188800-1496275199@micascottikole.com
SUMMARY:ENDING: Ross Writing Contest for Legal Short Fiction (US)
DESCRIPTION:The Ross Writing Contest for Legal Short Fiction is for works of fiction up to 5\,000 words that “illuminate the role of the law and/or lawyers in modern society.” Prize is $3\,000. U.S. citizens/legal permanent residents only. \nMore info here. Sponsored by ABA Journal. \nWas this page helpful? Consider supporting me on Patreon for $1/month. It helps me manage these events and keeps my website ad-free… and it earns you some cool stuff too! \nShare this:Click to share on Twitter (Opens in new window)Click to share on LinkedIn (Opens in new window)Click to share on Facebook (Opens in new window)Click to print (Opens in new window)Like this:Like Loading...
URL:https://micascottikole.com/events/ending-ross-writing-contest-legal-short-fiction-us/
ATTACH;FMTTYPE=image/png:https://micascottikole.com/wp-content/uploads/2017/04/BG_ShortStory.png
END:VEVENT
END:VCALENDAR