BEGIN:VCALENDAR
VERSION:2.0
PRODID:-//Mica Scotti Kole - ECPv5.2.0//NONSGML v1.0//EN
CALSCALE:GREGORIAN
METHOD:PUBLISH
X-WR-CALNAME:Mica Scotti Kole
X-ORIGINAL-URL:https://micascottikole.com
X-WR-CALDESC:Events for Mica Scotti Kole
BEGIN:VTIMEZONE
TZID:America/Detroit
BEGIN:DAYLIGHT
TZOFFSETFROM:-0500
TZOFFSETTO:-0400
TZNAME:EDT
DTSTART:20180311T070000
END:DAYLIGHT
BEGIN:STANDARD
TZOFFSETFROM:-0400
TZOFFSETTO:-0500
TZNAME:EST
DTSTART:20181104T060000
END:STANDARD
END:VTIMEZONE
BEGIN:VEVENT
DTSTART;VALUE=DATE:20180701
DTEND;VALUE=DATE:20180702
DTSTAMP:20260419T045448
CREATED:20180530T051750Z
LAST-MODIFIED:20180530T051750Z
UID:9036-1530403200-1530489599@micascottikole.com
SUMMARY:ENDING: Richard J. Margolis Award
DESCRIPTION:The Richard J. Margolis Award  is for an essayist or journalist whose work “combines warmth\, humor\, wisdom” with “concern with social justice.” Send at least two nonfiction pieces up to 30 pages total. Prize is  a $5\,000 stipend and a month-long residency at the Blue Mountain Center in the Adirondacks\, NY. \nMore info here. Sponsored by Margolis & Bloom. \n  \nFree Writing Events offers budget editing services from $5-10!\nYou can also support FWE on Patreon to keep it ad-free. \nSee any errors? Have I missed an event?\nContact me! \nShare this:Click to share on Twitter (Opens in new window)Click to share on LinkedIn (Opens in new window)Click to share on Facebook (Opens in new window)Click to print (Opens in new window)Like this:Like Loading...
URL:https://micascottikole.com/events/ending-richard-j-margolis-award/
ATTACH;FMTTYPE=image/png:https://micascottikole.com/wp-content/uploads/2017/04/BG_Nonfiction.png
END:VEVENT
END:VCALENDAR