BEGIN:VCALENDAR
VERSION:2.0
PRODID:-//Mica Scotti Kole - ECPv5.2.0//NONSGML v1.0//EN
CALSCALE:GREGORIAN
METHOD:PUBLISH
X-WR-CALNAME:Mica Scotti Kole
X-ORIGINAL-URL:https://micascottikole.com
X-WR-CALDESC:Events for Mica Scotti Kole
BEGIN:VTIMEZONE
TZID:America/Detroit
BEGIN:DAYLIGHT
TZOFFSETFROM:-0500
TZOFFSETTO:-0400
TZNAME:EDT
DTSTART:20170312T070000
END:DAYLIGHT
BEGIN:STANDARD
TZOFFSETFROM:-0400
TZOFFSETTO:-0500
TZNAME:EST
DTSTART:20171105T060000
END:STANDARD
END:VTIMEZONE
BEGIN:VEVENT
DTSTART;VALUE=DATE:20170531
DTEND;VALUE=DATE:20170601
DTSTAMP:20260420T071727
CREATED:20170427T040201Z
LAST-MODIFIED:20170427T040755Z
UID:6804-1496188800-1496275199@micascottikole.com
SUMMARY:ENDING: "Positivity" Chicken Soup Submission Window
DESCRIPTION:This  Chicken Soup Submission Window is for nonfiction (personal essays or poems\, etc) up to 1200 words on the Chicken Soup for the Soul subject shown below: \nPositive Thinking and Living a Happy Life \nPrize publication in a Chicken Soup for the Soul edition\, as well as $200 one month after publication of the book\, and ten free copies. \nMore info here and here. Sponsored by Chicken Soup for the Soul. \nWas this page helpful? Consider supporting me on Patreon for $1/month. It keeps my website ad-free and helps me manage these events… and it earns you some cool stuff too! \nShare this:Click to share on Twitter (Opens in new window)Click to share on LinkedIn (Opens in new window)Click to share on Facebook (Opens in new window)Click to print (Opens in new window)Like this:Like Loading...
URL:https://micascottikole.com/events/ending-positivity-chicken-soup-submission-window/
ATTACH;FMTTYPE=image/png:https://micascottikole.com/wp-content/uploads/2017/04/BG_Nonfiction.png
END:VEVENT
END:VCALENDAR