BEGIN:VCALENDAR
VERSION:2.0
PRODID:-//Mica Scotti Kole - ECPv5.2.0//NONSGML v1.0//EN
CALSCALE:GREGORIAN
METHOD:PUBLISH
X-WR-CALNAME:Mica Scotti Kole
X-ORIGINAL-URL:https://micascottikole.com
X-WR-CALDESC:Events for Mica Scotti Kole
BEGIN:VTIMEZONE
TZID:America/Detroit
BEGIN:DAYLIGHT
TZOFFSETFROM:-0500
TZOFFSETTO:-0400
TZNAME:EDT
DTSTART:20180311T070000
END:DAYLIGHT
BEGIN:STANDARD
TZOFFSETFROM:-0400
TZOFFSETTO:-0500
TZNAME:EST
DTSTART:20181104T060000
END:STANDARD
END:VTIMEZONE
BEGIN:VEVENT
DTSTART;VALUE=DATE:20180731
DTEND;VALUE=DATE:20180801
DTSTAMP:20260418T022154
CREATED:20180530T034146Z
LAST-MODIFIED:20180530T034146Z
UID:9016-1532995200-1533081599@micascottikole.com
SUMMARY:ENDING: Polar Expressions Poetry and Flash Contests (CAN: Youth/Adult)
DESCRIPTION:The Polar Expressions Contests are for poetry up to 48 lines and flash fiction up to 750 words by Canadian writers of all ages. There are two age categories above and below age 15. Prizes range from $50 to $500 from placing\, but more will be published in a keepsake edition. \nMore info here. Hosted by Polar Expressions Publishing. \n  \nFree Writing Events offers budget editing services from $5-10!\nYou can also support FWE on Patreon to keep it ad-free. \nSee any errors? Have I missed an event?\nContact me! \nShare this:Click to share on Twitter (Opens in new window)Click to share on LinkedIn (Opens in new window)Click to share on Facebook (Opens in new window)Click to print (Opens in new window)Like this:Like Loading...
URL:https://micascottikole.com/events/ending-polar-expressions-poetry-flash-contests-can-youth-adult/
ATTACH;FMTTYPE=image/png:https://micascottikole.com/wp-content/uploads/2017/04/BG_YouthAdult.png
END:VEVENT
END:VCALENDAR