BEGIN:VCALENDAR
VERSION:2.0
PRODID:-//Mica Scotti Kole - ECPv5.2.0//NONSGML v1.0//EN
CALSCALE:GREGORIAN
METHOD:PUBLISH
X-WR-CALNAME:Mica Scotti Kole
X-ORIGINAL-URL:https://micascottikole.com
X-WR-CALDESC:Events for Mica Scotti Kole
BEGIN:VTIMEZONE
TZID:America/Detroit
BEGIN:DAYLIGHT
TZOFFSETFROM:-0500
TZOFFSETTO:-0400
TZNAME:EDT
DTSTART:20170312T070000
END:DAYLIGHT
BEGIN:STANDARD
TZOFFSETFROM:-0400
TZOFFSETTO:-0500
TZNAME:EST
DTSTART:20171105T060000
END:STANDARD
END:VTIMEZONE
BEGIN:VEVENT
DTSTART;VALUE=DATE:20170731
DTEND;VALUE=DATE:20170801
DTSTAMP:20260423T181532
CREATED:20170304T003941Z
LAST-MODIFIED:20170417T183102Z
UID:6410-1501459200-1501545599@micascottikole.com
SUMMARY:ENDING: Polar Expressions Contest (CA)
DESCRIPTION:The Polar Expressions Contest is for poetry and short stories by Canadian residents of all ages. Stories must be 750 words or fewer\, and poems must be 48 lines or fewer. Prizes for ages 16+ are $500/$250/$100. Prizes for youth under age 16 are $200/$200/$50. The top 33% of all entries (give or take) will also be published in a softcover anthology. \nMore information here. Hosted by Polar Expressions Publishing. \nShare this:Click to share on Twitter (Opens in new window)Click to share on LinkedIn (Opens in new window)Click to share on Facebook (Opens in new window)Click to print (Opens in new window)Like this:Like Loading...
URL:https://micascottikole.com/events/ending-polar-expressions-contest-ca/
ATTACH;FMTTYPE=image/png:https://micascottikole.com/wp-content/uploads/2017/04/BG_ShortStory_Poetry.png
END:VEVENT
END:VCALENDAR